BEGIN:VCALENDAR
VERSION:2.0
PRODID:-//Biblioteka Publiczna im. Ireny Zarzyckiej w Ożarowie Mazowieckim - ECPv6.15.12.2//NONSGML v1.0//EN
CALSCALE:GREGORIAN
METHOD:PUBLISH
X-WR-CALNAME:Biblioteka Publiczna im. Ireny Zarzyckiej w Ożarowie Mazowieckim
X-ORIGINAL-URL:https://biblioteka.ozarow-mazowiecki.pl
X-WR-CALDESC:Wydarzenia dla Biblioteka Publiczna im. Ireny Zarzyckiej w Ożarowie Mazowieckim
REFRESH-INTERVAL;VALUE=DURATION:PT1H
X-Robots-Tag:noindex
X-PUBLISHED-TTL:PT1H
BEGIN:VTIMEZONE
TZID:Europe/Warsaw
BEGIN:DAYLIGHT
TZOFFSETFROM:+0100
TZOFFSETTO:+0200
TZNAME:CEST
DTSTART:20230326T010000
END:DAYLIGHT
BEGIN:STANDARD
TZOFFSETFROM:+0200
TZOFFSETTO:+0100
TZNAME:CET
DTSTART:20231029T010000
END:STANDARD
BEGIN:DAYLIGHT
TZOFFSETFROM:+0100
TZOFFSETTO:+0200
TZNAME:CEST
DTSTART:20240331T010000
END:DAYLIGHT
BEGIN:STANDARD
TZOFFSETFROM:+0200
TZOFFSETTO:+0100
TZNAME:CET
DTSTART:20241027T010000
END:STANDARD
BEGIN:DAYLIGHT
TZOFFSETFROM:+0100
TZOFFSETTO:+0200
TZNAME:CEST
DTSTART:20250330T010000
END:DAYLIGHT
BEGIN:STANDARD
TZOFFSETFROM:+0200
TZOFFSETTO:+0100
TZNAME:CET
DTSTART:20251026T010000
END:STANDARD
END:VTIMEZONE
BEGIN:VEVENT
DTSTART;TZID=Europe/Warsaw:20240527T090000
DTEND;TZID=Europe/Warsaw:20240527T110000
DTSTAMP:20260425T144536
CREATED:20240502T080445Z
LAST-MODIFIED:20240520T203504Z
UID:24583-1716800400-1716807600@biblioteka.ozarow-mazowiecki.pl
SUMMARY:Ożarów – 10. Ożarowski / XXIII Ogólnopolski Tydzień Czytania Dzieciom
DESCRIPTION:2 spotkania dla uczniów SP w Święcicach
URL:https://biblioteka.ozarow-mazowiecki.pl/wydarzenie/ozarow-10-ozarowski-xxiii-ogolnopolski-tydzien-czytania-dzieciom-biblioteka-podworkowa-3/
LOCATION:Filia nr 2 w Święcicach\, Warszawska 53\, Święcice\, mazowieckie\, 05-850
END:VEVENT
BEGIN:VEVENT
DTSTART;TZID=Europe/Warsaw:20240527T170000
DTEND;TZID=Europe/Warsaw:20240527T180000
DTSTAMP:20260425T144536
CREATED:20240429T213307Z
LAST-MODIFIED:20240429T213715Z
UID:24480-1716829200-1716832800@biblioteka.ozarow-mazowiecki.pl
SUMMARY:Ożarów – 10. Ożarowski / XXIII Ogólnopolski Tydzień Czytania Dzieciom - Biblioteka podwórkowa
DESCRIPTION:Spotkanie na placu zabaw przy bibliobudce – ul. Poznańska 288 \nWstęp wolny
URL:https://biblioteka.ozarow-mazowiecki.pl/wydarzenie/ozarow-10-ozarowski-xxiii-ogolnopolski-tydzien-czytania-dzieciom-biblioteka-podworkowa/
LOCATION:Plac zabaw przy bibliobudce\, Poznańska 288\, Ożarów Mazowiecki\, mazowieckie\, 05-850
END:VEVENT
BEGIN:VEVENT
DTSTART;TZID=Europe/Warsaw:20240527T173000
DTEND;TZID=Europe/Warsaw:20240527T190000
DTSTAMP:20260425T144536
CREATED:20240512T215038Z
LAST-MODIFIED:20240512T215038Z
UID:24719-1716831000-1716836400@biblioteka.ozarow-mazowiecki.pl
SUMMARY:Józefów – Dyskusyjny Klub Książki
DESCRIPTION:
URL:https://biblioteka.ozarow-mazowiecki.pl/wydarzenie/jozefow-dyskusyjny-klub-ksiazki-22/
LOCATION:Filia nr 1 w Józefowie\, Fabryczna 15\, Płochocin\, mazowieckie\, 05-860
END:VEVENT
BEGIN:VEVENT
DTSTART;TZID=Europe/Warsaw:20240528T100000
DTEND;TZID=Europe/Warsaw:20240528T140000
DTSTAMP:20260425T144536
CREATED:20240429T210934Z
LAST-MODIFIED:20240520T203406Z
UID:24468-1716890400-1716904800@biblioteka.ozarow-mazowiecki.pl
SUMMARY:Ożarów – 10. Ożarowski / XXIII Ogólnopolski Tydzień Czytania Dzieciom
DESCRIPTION:4 spotkania w SP w Umiastowie
URL:https://biblioteka.ozarow-mazowiecki.pl/wydarzenie/ozarow-10-ozarowski-xxiii-ogolnopolski-tydzien-czytania-dzieciom/
LOCATION:Szkoła Podstawowa w Umiastowie\, Umiastowska 74\, Ożarów Mazowiecki\, mazowieckie\, 05-850\, Poland
END:VEVENT
BEGIN:VEVENT
DTSTART;TZID=Europe/Warsaw:20240528T163000
DTEND;TZID=Europe/Warsaw:20240528T180000
DTSTAMP:20260425T144536
CREATED:20240430T213110Z
LAST-MODIFIED:20240430T213110Z
UID:24570-1716913800-1716919200@biblioteka.ozarow-mazowiecki.pl
SUMMARY:Święcice – Biblioteczna Pracownia Kreatywności – zakładkowy scrapbooking
DESCRIPTION:
URL:https://biblioteka.ozarow-mazowiecki.pl/wydarzenie/swiecice-biblioteczna-pracownia-kreatywnosci-zakladkowy-scrapbooking/
LOCATION:Filia nr 2 w Święcicach\, Warszawska 53\, Święcice\, mazowieckie\, 05-850
END:VEVENT
BEGIN:VEVENT
DTSTART;TZID=Europe/Warsaw:20240529T100000
DTEND;TZID=Europe/Warsaw:20240529T120000
DTSTAMP:20260425T144536
CREATED:20240429T211057Z
LAST-MODIFIED:20240429T211556Z
UID:24471-1716976800-1716984000@biblioteka.ozarow-mazowiecki.pl
SUMMARY:Ożarów – 10. Ożarowski / XXIII Ogólnopolski Tydzień Czytania Dzieciom
DESCRIPTION:Zajęcia dla uczniów Naszej Szkoły
URL:https://biblioteka.ozarow-mazowiecki.pl/wydarzenie/ozarow-10-ozarowski-xxiii-ogolnopolski-tydzien-czytania-dzieciom-2/
LOCATION:Nasza Klinika\, Dmowskiego 39\, Ożarów Mazowiecki\, mazowieckie\, 05-850
END:VEVENT
BEGIN:VEVENT
DTSTART;TZID=Europe/Warsaw:20240601T150000
DTEND;TZID=Europe/Warsaw:20240601T190000
DTSTAMP:20260425T144536
CREATED:20240429T212034Z
LAST-MODIFIED:20240429T212124Z
UID:24474-1717254000-1717268400@biblioteka.ozarow-mazowiecki.pl
SUMMARY:Ożarów – 10. Ożarowski / XXIII Ogólnopolski Tydzień Czytania Dzieciom - Rodzinny Dzień Dziecka
DESCRIPTION:Stoisko Biblioteki na miejskiej imprezie plenerowej. \n\nInauguracja 10. Ożarowskiego / XXIII Ogólnopolskiego Tygodnia Czytania Dzieciom – odczytanie „Lokomotywy” ze sceny\,\nAnimacje przy stoisku\,\nBiblioteka podwórkowa\,\nStrefa relaksu.
URL:https://biblioteka.ozarow-mazowiecki.pl/wydarzenie/ozarow-10-ozarowski-xxiii-ogolnopolski-tydzien-czytania-dzieciom-dzien-dziecka/
LOCATION:Stadion AMBRA\, Mazowiecka 12/16\, Ożarów Mazowiecki\, mazowieckie\, 05-850\, Poland
END:VEVENT
BEGIN:VEVENT
DTSTART;TZID=Europe/Warsaw:20240603T090000
DTEND;TZID=Europe/Warsaw:20240603T130000
DTSTAMP:20260425T144536
CREATED:20240211T181936Z
LAST-MODIFIED:20240429T212505Z
UID:23177-1717405200-1717419600@biblioteka.ozarow-mazowiecki.pl
SUMMARY:Ożarów – 10. Ożarowski / XXIII Ogólnopolski Tydzień Czytania Dzieciom - Spotkanie autorskie z Zofią Stanecką
DESCRIPTION:Inicjatywa oddolna BLISKO – „Spotkanie z Basią” \nPrzedszkole Publiczne „Zameczek” – 3 spotkania \nPrzedszkole Publiczne „Zameczek” Filia – 1 spotkanie
URL:https://biblioteka.ozarow-mazowiecki.pl/wydarzenie/ozarow-otcd-spotkanie-autorskie-z-zofia-stanecka/
LOCATION:Przedszkole Publiczne nr 1\, Ożarowska 34\, Ożarów Mazowiecki\, mazowiecki\, 05-850\, Poland
END:VEVENT
BEGIN:VEVENT
DTSTART;TZID=Europe/Warsaw:20240603T170000
DTEND;TZID=Europe/Warsaw:20240603T180000
DTSTAMP:20260425T144536
CREATED:20240430T130554Z
LAST-MODIFIED:20240430T130554Z
UID:24505-1717434000-1717437600@biblioteka.ozarow-mazowiecki.pl
SUMMARY:Ożarów – 10. Ożarowski / XXIII Ogólnopolski Tydzień Czytania Dzieciom – Biblioteka podwórkowa
DESCRIPTION:Spotkanie na placu zabaw przy bibliobudce – ul. Poznańska 288 \nWstęp wolny
URL:https://biblioteka.ozarow-mazowiecki.pl/wydarzenie/ozarow-10-ozarowski-xxiii-ogolnopolski-tydzien-czytania-dzieciom-biblioteka-podworkowa-2/
LOCATION:Plac zabaw przy bibliobudce\, Poznańska 288\, Ożarów Mazowiecki\, mazowieckie\, 05-850
END:VEVENT
BEGIN:VEVENT
DTSTART;TZID=Europe/Warsaw:20240604T090000
DTEND;TZID=Europe/Warsaw:20240604T133000
DTSTAMP:20260425T144536
CREATED:20240429T212716Z
LAST-MODIFIED:20240502T080255Z
UID:24478-1717491600-1717507800@biblioteka.ozarow-mazowiecki.pl
SUMMARY:Ożarów – 10. Ożarowski / XXIII Ogólnopolski Tydzień Czytania Dzieciom
DESCRIPTION:Zajęcia w Przedszkolu nr 2 „Magiczny Ogród”
URL:https://biblioteka.ozarow-mazowiecki.pl/wydarzenie/ozarow-10-ozarowski-xxiii-ogolnopolski-tydzien-czytania-dzieciom-3/
LOCATION:Przedszkole Publiczne nr 2\, Poznańska 135\, Ożarów Mazowiecki\, warszawski zachodni\, 05-850
END:VEVENT
BEGIN:VEVENT
DTSTART;TZID=Europe/Warsaw:20240605T091500
DTEND;TZID=Europe/Warsaw:20240605T101500
DTSTAMP:20260425T144536
CREATED:20240429T213834Z
LAST-MODIFIED:20240520T203636Z
UID:24482-1717578900-1717582500@biblioteka.ozarow-mazowiecki.pl
SUMMARY:Ożarów – 10. Ożarowski / XXIII Ogólnopolski Tydzień Czytania Dzieciom
DESCRIPTION:Zajęcia dla przedszkolaków z Przedszkola Publicznego w Józefowie (gr. III i IV)
URL:https://biblioteka.ozarow-mazowiecki.pl/wydarzenie/ozarow-10-ozarowski-xxiii-ogolnopolski-tydzien-czytania-dzieciom-4/
LOCATION:Filia nr 1 w Józefowie\, Fabryczna 15\, Płochocin\, mazowieckie\, 05-860
END:VEVENT
BEGIN:VEVENT
DTSTART;TZID=Europe/Warsaw:20240605T103000
DTEND;TZID=Europe/Warsaw:20240605T113000
DTSTAMP:20260425T144536
CREATED:20240520T203813Z
LAST-MODIFIED:20240520T203813Z
UID:25025-1717583400-1717587000@biblioteka.ozarow-mazowiecki.pl
SUMMARY:Ożarów – 10. Ożarowski / XXIII Ogólnopolski Tydzień Czytania Dzieciom
DESCRIPTION:Zajęcia dla kl. 1d SP w Płochocinie
URL:https://biblioteka.ozarow-mazowiecki.pl/wydarzenie/ozarow-10-ozarowski-xxiii-ogolnopolski-tydzien-czytania-dzieciom-6/
LOCATION:Filia nr 1 w Józefowie\, Fabryczna 15\, Płochocin\, mazowieckie\, 05-860
END:VEVENT
BEGIN:VEVENT
DTSTART;TZID=Europe/Warsaw:20240606T090000
DTEND;TZID=Europe/Warsaw:20240606T120000
DTSTAMP:20260425T144536
CREATED:20240429T222210Z
LAST-MODIFIED:20240429T222210Z
UID:24484-1717664400-1717675200@biblioteka.ozarow-mazowiecki.pl
SUMMARY:Ożarów – 10. Ożarowski / XXIII Ogólnopolski Tydzień Czytania Dzieciom
DESCRIPTION:Zajęcia w SP nr 2\, 4 klasy „0”
URL:https://biblioteka.ozarow-mazowiecki.pl/wydarzenie/ozarow-10-ozarowski-xxiii-ogolnopolski-tydzien-czytania-dzieciom-5/
LOCATION:Szkoła Postawowa nr 2 im. Obrońców Warszawy\, Lipowa 11\, Ożarów Mazowiecki\, mazowieckie\, 05-850
END:VEVENT
BEGIN:VEVENT
DTSTART;TZID=Europe/Warsaw:20240606T100000
DTEND;TZID=Europe/Warsaw:20240606T120000
DTSTAMP:20260425T144536
CREATED:20240607T075444Z
LAST-MODIFIED:20240607T075444Z
UID:25499-1717668000-1717675200@biblioteka.ozarow-mazowiecki.pl
SUMMARY:Józefów – Klub Pasjonatów
DESCRIPTION:Wstęp wolny.
URL:https://biblioteka.ozarow-mazowiecki.pl/wydarzenie/jozefow-klub-pasjonatow-72/
LOCATION:Filia nr 1 w Józefowie\, Fabryczna 15\, Płochocin\, mazowieckie\, 05-860
END:VEVENT
BEGIN:VEVENT
DTSTART;TZID=Europe/Warsaw:20240607T080000
DTEND;TZID=Europe/Warsaw:20240607T190000
DTSTAMP:20260425T144536
CREATED:20240520T204418Z
LAST-MODIFIED:20240520T204418Z
UID:25030-1717747200-1717786800@biblioteka.ozarow-mazowiecki.pl
SUMMARY:Ożarów – 10. Ożarowski / XXIII Ogólnopolski Tydzień Czytania Dzieciom – Ogólnopolskie Wybory Książek Młodzieżowych
DESCRIPTION:Szczegóły wkrótce
URL:https://biblioteka.ozarow-mazowiecki.pl/wydarzenie/ozarow-10-ozarowski-xxiii-ogolnopolski-tydzien-czytania-dzieciom-ogolnopolskie-wybory-ksiazek-mlodziezowych/
LOCATION:mazowieckie
END:VEVENT
BEGIN:VEVENT
DTSTART;TZID=Europe/Warsaw:20240608T110000
DTEND;TZID=Europe/Warsaw:20240608T130000
DTSTAMP:20260425T144536
CREATED:20240429T222436Z
LAST-MODIFIED:20240429T222436Z
UID:24486-1717844400-1717851600@biblioteka.ozarow-mazowiecki.pl
SUMMARY:Ożarów – 10. Ożarowski / XXIII Ogólnopolski Tydzień Czytania Dzieciom / Finał akcji Mała Książka - Wielki Człowiek
DESCRIPTION:Spotkanie dla uczestników akcji
URL:https://biblioteka.ozarow-mazowiecki.pl/wydarzenie/ozarow-10-ozarowski-xxiii-ogolnopolski-tydzien-czytania-dzieciom-final-akcji-mala-ksiazka-wielki-czlowiek/
LOCATION:Stadion AMBRA\, Mazowiecka 12/16\, Ożarów Mazowiecki\, mazowieckie\, 05-850\, Poland
END:VEVENT
BEGIN:VEVENT
DTSTART;TZID=Europe/Warsaw:20240610T160000
DTEND;TZID=Europe/Warsaw:20240610T190000
DTSTAMP:20260425T144536
CREATED:20240611T091457Z
LAST-MODIFIED:20240611T091457Z
UID:25757-1718035200-1718046000@biblioteka.ozarow-mazowiecki.pl
SUMMARY:Józefów – Klub Brydżystów
DESCRIPTION:Obowiązują zapisy.
URL:https://biblioteka.ozarow-mazowiecki.pl/wydarzenie/jozefow-klub-brydzystow-45/
LOCATION:Filia nr 1 w Józefowie\, Fabryczna 15\, Płochocin\, mazowieckie\, 05-860
END:VEVENT
BEGIN:VEVENT
DTSTART;TZID=Europe/Warsaw:20240611T180000
DTEND;TZID=Europe/Warsaw:20240611T200000
DTSTAMP:20260425T144536
CREATED:20240429T222638Z
LAST-MODIFIED:20240429T222638Z
UID:24488-1718128800-1718136000@biblioteka.ozarow-mazowiecki.pl
SUMMARY:Ożarów – BLISKO Autorów – spotkanie autorskie z Wojciechem Nerkowskim
DESCRIPTION:Wstęp wolny
URL:https://biblioteka.ozarow-mazowiecki.pl/wydarzenie/ozarow-blisko-autorow-spotkanie-autorskie-z-wojciechem-nerkowskim/
LOCATION:Biblioteka Publiczna im. Ireny Zarzyckiej w Ożarowie Mazowieckim\, Szkolna 2\, Ożarów Mazowiecki\, mazowieckie\, 05-850\, Poland
END:VEVENT
BEGIN:VEVENT
DTSTART;TZID=Europe/Warsaw:20240613T100000
DTEND;TZID=Europe/Warsaw:20240613T120000
DTSTAMP:20260425T144536
CREATED:20240607T075514Z
LAST-MODIFIED:20240611T091343Z
UID:25501-1718272800-1718280000@biblioteka.ozarow-mazowiecki.pl
SUMMARY:Józefów – Klub Pasjonatów
DESCRIPTION:Wstęp wolny.
URL:https://biblioteka.ozarow-mazowiecki.pl/wydarzenie/jozefow-klub-pasjonatow-73/
LOCATION:Filia nr 1 w Józefowie\, Fabryczna 15\, Płochocin\, mazowieckie\, 05-860
END:VEVENT
BEGIN:VEVENT
DTSTART;TZID=Europe/Warsaw:20240613T180000
DTEND;TZID=Europe/Warsaw:20240613T200000
DTSTAMP:20260425T144536
CREATED:20240429T222845Z
LAST-MODIFIED:20240520T204021Z
UID:24490-1718301600-1718308800@biblioteka.ozarow-mazowiecki.pl
SUMMARY:Ożarów - Polskie gwiazdy starego kina - spotkanie autorskie z Piotrem Kitrasiewiczem
DESCRIPTION:Spotkanie we współpracy z OUTW
URL:https://biblioteka.ozarow-mazowiecki.pl/wydarzenie/ozarow-w-starym-kinie/
LOCATION:Biblioteka Publiczna im. Ireny Zarzyckiej w Ożarowie Mazowieckim\, Szkolna 2\, Ożarów Mazowiecki\, mazowieckie\, 05-850\, Poland
END:VEVENT
BEGIN:VEVENT
DTSTART;TZID=Europe/Warsaw:20240614T115000
DTEND;TZID=Europe/Warsaw:20240614T123000
DTSTAMP:20260425T144536
CREATED:20240429T223025Z
LAST-MODIFIED:20240429T223025Z
UID:24493-1718365800-1718368200@biblioteka.ozarow-mazowiecki.pl
SUMMARY:Ożarów – Dyskusyjny Klub Książki dla młodzieży
DESCRIPTION:Kl. 6A SP nr 1
URL:https://biblioteka.ozarow-mazowiecki.pl/wydarzenie/ozarow-dyskusyjny-klub-ksiazki-dla-mlodziezy-24/
LOCATION:Biblioteka Publiczna im. Ireny Zarzyckiej w Ożarowie Mazowieckim\, Szkolna 2\, Ożarów Mazowiecki\, mazowieckie\, 05-850\, Poland
END:VEVENT
BEGIN:VEVENT
DTSTART;TZID=Europe/Warsaw:20240615T143000
DTEND;TZID=Europe/Warsaw:20240615T190000
DTSTAMP:20260425T144536
CREATED:20240429T223237Z
LAST-MODIFIED:20240429T223237Z
UID:24495-1718461800-1718478000@biblioteka.ozarow-mazowiecki.pl
SUMMARY:Dni Ożarowa Mazowieckiego - stoisko Biblioteki
DESCRIPTION:Szczegóły wkrótce
URL:https://biblioteka.ozarow-mazowiecki.pl/wydarzenie/dni-ozarowa-mazowieckiego-stoisko-biblioteki/
LOCATION:Stadion AMBRA\, Mazowiecka 12/16\, Ożarów Mazowiecki\, mazowieckie\, 05-850\, Poland
END:VEVENT
BEGIN:VEVENT
DTSTART;TZID=Europe/Warsaw:20240617T160000
DTEND;TZID=Europe/Warsaw:20240617T190000
DTSTAMP:20260425T144536
CREATED:20240611T091519Z
LAST-MODIFIED:20240611T091519Z
UID:25759-1718640000-1718650800@biblioteka.ozarow-mazowiecki.pl
SUMMARY:Józefów – Klub Brydżystów
DESCRIPTION:Obowiązują zapisy.
URL:https://biblioteka.ozarow-mazowiecki.pl/wydarzenie/jozefow-klub-brydzystow-46/
LOCATION:Filia nr 1 w Józefowie\, Fabryczna 15\, Płochocin\, mazowieckie\, 05-860
END:VEVENT
BEGIN:VEVENT
DTSTART;TZID=Europe/Warsaw:20240619T180000
DTEND;TZID=Europe/Warsaw:20240619T200000
DTSTAMP:20260425T144536
CREATED:20240429T223501Z
LAST-MODIFIED:20240429T223501Z
UID:24497-1718820000-1718827200@biblioteka.ozarow-mazowiecki.pl
SUMMARY:Ożarów – BLISKO Autorów – spotkanie autorskie z Wiktorią Korzeniewską i Aleksandrą Seligą
DESCRIPTION:Wstęp wolny
URL:https://biblioteka.ozarow-mazowiecki.pl/wydarzenie/ozarow-blisko-autorow-spotkanie-autorskie-z-wiktoria-korzeniewska-i-aleksandra-seliga/
LOCATION:Biblioteka Publiczna im. Ireny Zarzyckiej w Ożarowie Mazowieckim\, Szkolna 2\, Ożarów Mazowiecki\, mazowieckie\, 05-850\, Poland
END:VEVENT
BEGIN:VEVENT
DTSTART;TZID=Europe/Warsaw:20240620T090000
DTEND;TZID=Europe/Warsaw:20240620T120000
DTSTAMP:20260425T144536
CREATED:20240429T223828Z
LAST-MODIFIED:20240429T223828Z
UID:24500-1718874000-1718884800@biblioteka.ozarow-mazowiecki.pl
SUMMARY:Ożarów – Wypożyczalnia Dobrej Zabawy
DESCRIPTION:Mądre Sówki
URL:https://biblioteka.ozarow-mazowiecki.pl/wydarzenie/ozarow-wypozyczalnia-dobrej-zabawy-46/
LOCATION:Żłobek Mądre Sówki 1\, Reymonta 25\, Ożarów Mazowiecki\, mazowieckie\, 05-850
END:VEVENT
BEGIN:VEVENT
DTSTART;TZID=Europe/Warsaw:20240620T100000
DTEND;TZID=Europe/Warsaw:20240620T120000
DTSTAMP:20260425T144536
CREATED:20240607T075548Z
LAST-MODIFIED:20240611T091319Z
UID:25503-1718877600-1718884800@biblioteka.ozarow-mazowiecki.pl
SUMMARY:Józefów – Klub Pasjonatów
DESCRIPTION:Wstęp wolny.
URL:https://biblioteka.ozarow-mazowiecki.pl/wydarzenie/jozefow-klub-pasjonatow-74/
LOCATION:Filia nr 1 w Józefowie\, Fabryczna 15\, Płochocin\, mazowieckie\, 05-860
END:VEVENT
BEGIN:VEVENT
DTSTART;TZID=Europe/Warsaw:20240624T173000
DTEND;TZID=Europe/Warsaw:20240624T190000
DTSTAMP:20260425T144536
CREATED:20240607T075248Z
LAST-MODIFIED:20240607T075248Z
UID:25496-1719250200-1719255600@biblioteka.ozarow-mazowiecki.pl
SUMMARY:Józefów – Dyskusyjny Klub Książki
DESCRIPTION:
URL:https://biblioteka.ozarow-mazowiecki.pl/wydarzenie/jozefow-dyskusyjny-klub-ksiazki-23/
LOCATION:Filia nr 1 w Józefowie\, Fabryczna 15\, Płochocin\, mazowieckie\, 05-860
END:VEVENT
BEGIN:VEVENT
DTSTART;TZID=Europe/Warsaw:20240627T090000
DTEND;TZID=Europe/Warsaw:20240627T120000
DTSTAMP:20260425T144536
CREATED:20240429T223950Z
LAST-MODIFIED:20240429T223950Z
UID:24502-1719478800-1719489600@biblioteka.ozarow-mazowiecki.pl
SUMMARY:Ożarów – Wypożyczalnia Dobrej Zabawy
DESCRIPTION:Mądre Sówki
URL:https://biblioteka.ozarow-mazowiecki.pl/wydarzenie/ozarow-wypozyczalnia-dobrej-zabawy-47/
LOCATION:Żłobek Mądre Sówki 2\, Umiatowska 56\, Umiastów\, mazowieckie\, 05-850
END:VEVENT
BEGIN:VEVENT
DTSTART;TZID=Europe/Warsaw:20240627T100000
DTEND;TZID=Europe/Warsaw:20240627T120000
DTSTAMP:20260425T144536
CREATED:20240607T075622Z
LAST-MODIFIED:20240611T091205Z
UID:25505-1719482400-1719489600@biblioteka.ozarow-mazowiecki.pl
SUMMARY:Józefów – Klub Pasjonatów
DESCRIPTION:Wstęp wolny.
URL:https://biblioteka.ozarow-mazowiecki.pl/wydarzenie/jozefow-klub-pasjonatow-75/
LOCATION:Filia nr 1 w Józefowie\, Fabryczna 15\, Płochocin\, mazowieckie\, 05-860
END:VEVENT
BEGIN:VEVENT
DTSTART;TZID=Europe/Warsaw:20240925T173000
DTEND;TZID=Europe/Warsaw:20240925T200000
DTSTAMP:20260425T144536
CREATED:20240924T131910Z
LAST-MODIFIED:20241006T220228Z
UID:27850-1727285400-1727294400@biblioteka.ozarow-mazowiecki.pl
SUMMARY:Ożarów - Dyskusyjny Klub Książki dla Dorosłych
DESCRIPTION:Podczas wrześniowego spotkania Dyskusyjnego Klubu Książki w Ożarowie Mazowieckim\, dyskutować będziemy o książce „Julita i huśtwaki”\, autorstwa Hanny Kowalewskiej.
URL:https://biblioteka.ozarow-mazowiecki.pl/wydarzenie/dyskusyjny-klub-ksiazki-w-ozarowie-mazowieckim/
LOCATION:Biblioteka Publiczna im. Ireny Zarzyckiej w Ożarowie Mazowieckim\, Szkolna 2\, Ożarów Mazowiecki\, mazowieckie\, 05-850\, Poland
ATTACH;FMTTYPE=image/jpeg:https://biblioteka.ozarow-mazowiecki.pl/wp-content/uploads/2024/09/Wrzesien-2024-1-1.jpg
END:VEVENT
END:VCALENDAR