BEGIN:VCALENDAR
VERSION:2.0
PRODID:-//Biblioteka Publiczna im. Ireny Zarzyckiej w Ożarowie Mazowieckim - ECPv6.15.12.2//NONSGML v1.0//EN
CALSCALE:GREGORIAN
METHOD:PUBLISH
X-WR-CALNAME:Biblioteka Publiczna im. Ireny Zarzyckiej w Ożarowie Mazowieckim
X-ORIGINAL-URL:https://biblioteka.ozarow-mazowiecki.pl
X-WR-CALDESC:Wydarzenia dla Biblioteka Publiczna im. Ireny Zarzyckiej w Ożarowie Mazowieckim
REFRESH-INTERVAL;VALUE=DURATION:PT1H
X-Robots-Tag:noindex
X-PUBLISHED-TTL:PT1H
BEGIN:VTIMEZONE
TZID:Europe/Warsaw
BEGIN:DAYLIGHT
TZOFFSETFROM:+0100
TZOFFSETTO:+0200
TZNAME:CEST
DTSTART:20250330T010000
END:DAYLIGHT
BEGIN:STANDARD
TZOFFSETFROM:+0200
TZOFFSETTO:+0100
TZNAME:CET
DTSTART:20251026T010000
END:STANDARD
BEGIN:DAYLIGHT
TZOFFSETFROM:+0100
TZOFFSETTO:+0200
TZNAME:CEST
DTSTART:20260329T010000
END:DAYLIGHT
BEGIN:STANDARD
TZOFFSETFROM:+0200
TZOFFSETTO:+0100
TZNAME:CET
DTSTART:20261025T010000
END:STANDARD
BEGIN:DAYLIGHT
TZOFFSETFROM:+0100
TZOFFSETTO:+0200
TZNAME:CEST
DTSTART:20270328T010000
END:DAYLIGHT
BEGIN:STANDARD
TZOFFSETFROM:+0200
TZOFFSETTO:+0100
TZNAME:CET
DTSTART:20271031T010000
END:STANDARD
END:VTIMEZONE
BEGIN:VEVENT
DTSTART;TZID=Europe/Warsaw:20260117T110000
DTEND;TZID=Europe/Warsaw:20260117T130000
DTSTAMP:20260425T180048
CREATED:20251210T211133Z
LAST-MODIFIED:20251210T211133Z
UID:37396-1768647600-1768654800@biblioteka.ozarow-mazowiecki.pl
SUMMARY:Ożarów – Sąsiedzka Wymianka Książek
DESCRIPTION:Wstęp wolny
URL:https://biblioteka.ozarow-mazowiecki.pl/wydarzenie/ozarow-sasiedzka-wymianka-ksiazek-2/
LOCATION:Biblioteka Publiczna im. Ireny Zarzyckiej w Ożarowie Mazowieckim\, Szkolna 2\, Ożarów Mazowiecki\, mazowieckie\, 05-850\, Poland
END:VEVENT
BEGIN:VEVENT
DTSTART;TZID=Europe/Warsaw:20260119T090000
DTEND;TZID=Europe/Warsaw:20260119T103000
DTSTAMP:20260425T180048
CREATED:20260116T143140Z
LAST-MODIFIED:20260116T143140Z
UID:37940-1768813200-1768818600@biblioteka.ozarow-mazowiecki.pl
SUMMARY:Ożarów – Wypożyczalnia Dobrej Zabawy – Dzień Babci i Dziadka
DESCRIPTION:Zajęcia w Przedszkolu Magiczny Ogród – wszystkie grupy
URL:https://biblioteka.ozarow-mazowiecki.pl/wydarzenie/ozarow-wypozyczalnia-dobrej-zabawy-dzien-babci-i-dziadka/
LOCATION:Biblioteka Publiczna im. Ireny Zarzyckiej w Ożarowie Mazowieckim\, Szkolna 2\, Ożarów Mazowiecki\, mazowieckie\, 05-850\, Poland
END:VEVENT
BEGIN:VEVENT
DTSTART;TZID=Europe/Warsaw:20260119T120000
DTEND;TZID=Europe/Warsaw:20260119T140000
DTSTAMP:20260425T180048
CREATED:20260120T143807Z
LAST-MODIFIED:20260120T143807Z
UID:38070-1768824000-1768831200@biblioteka.ozarow-mazowiecki.pl
SUMMARY:Ożarów - 3F: Filmowe Ferie Familijne
DESCRIPTION:
URL:https://biblioteka.ozarow-mazowiecki.pl/wydarzenie/ozarow-3f-filmowe-ferie-familijne/
LOCATION:Biblioteka Publiczna im. Ireny Zarzyckiej w Ożarowie Mazowieckim\, Szkolna 2\, Ożarów Mazowiecki\, mazowieckie\, 05-850\, Poland
END:VEVENT
BEGIN:VEVENT
DTSTART;TZID=Europe/Warsaw:20260120T120000
DTEND;TZID=Europe/Warsaw:20260120T140000
DTSTAMP:20260425T180048
CREATED:20260120T143939Z
LAST-MODIFIED:20260120T143939Z
UID:38073-1768910400-1768917600@biblioteka.ozarow-mazowiecki.pl
SUMMARY:Ożarów – 3F: Filmowe Ferie Familijne
DESCRIPTION:
URL:https://biblioteka.ozarow-mazowiecki.pl/wydarzenie/ozarow-3f-filmowe-ferie-familijne-2/
LOCATION:Biblioteka Publiczna im. Ireny Zarzyckiej w Ożarowie Mazowieckim\, Szkolna 2\, Ożarów Mazowiecki\, mazowieckie\, 05-850\, Poland
END:VEVENT
BEGIN:VEVENT
DTSTART;TZID=Europe/Warsaw:20260121T090000
DTEND;TZID=Europe/Warsaw:20260121T110000
DTSTAMP:20260425T180048
CREATED:20251210T211402Z
LAST-MODIFIED:20260120T144856Z
UID:37398-1768986000-1768993200@biblioteka.ozarow-mazowiecki.pl
SUMMARY:Ożarów – Wypożyczalnia Dobrej Zabawy - Dzień Babci i Dziadka
DESCRIPTION:Zajęcia w Przedszkolu Zameczek – wszystkie grupy
URL:https://biblioteka.ozarow-mazowiecki.pl/wydarzenie/ozarow-wypozyczalnia-dobrej-zabawy-dzien-babci/
LOCATION:Przedszkole Publiczne nr 1\, Ożarowska 34\, Ożarów Mazowiecki\, mazowiecki\, 05-850\, Poland
END:VEVENT
BEGIN:VEVENT
DTSTART;TZID=Europe/Warsaw:20260121T120000
DTEND;TZID=Europe/Warsaw:20260121T140000
DTSTAMP:20260425T180048
CREATED:20260120T144023Z
LAST-MODIFIED:20260120T144023Z
UID:38075-1768996800-1769004000@biblioteka.ozarow-mazowiecki.pl
SUMMARY:Ożarów – 3F: Filmowe Ferie Familijne
DESCRIPTION:
URL:https://biblioteka.ozarow-mazowiecki.pl/wydarzenie/ozarow-3f-filmowe-ferie-familijne-3/
LOCATION:Biblioteka Publiczna im. Ireny Zarzyckiej w Ożarowie Mazowieckim\, Szkolna 2\, Ożarów Mazowiecki\, mazowieckie\, 05-850\, Poland
END:VEVENT
BEGIN:VEVENT
DTSTART;TZID=Europe/Warsaw:20260122T090000
DTEND;TZID=Europe/Warsaw:20260122T103000
DTSTAMP:20260425T180048
CREATED:20251210T211539Z
LAST-MODIFIED:20260120T144931Z
UID:37400-1769072400-1769077800@biblioteka.ozarow-mazowiecki.pl
SUMMARY:Ożarów – Wypożyczalnia Dobrej Zabawy - Dzień Babci i Dziadka
DESCRIPTION:Zajęcia w Przedszkolu Zameczek – Filia – wszystkie grupy
URL:https://biblioteka.ozarow-mazowiecki.pl/wydarzenie/ozarow-wypozyczalnia-dobrej-zabawy-dzien-dziadka/
LOCATION:Przedszkole Publiczne nr 1 – Filia\, Mickiewicza 51\, Ożarów Mazowiecki\, mazowieckie\, 05-850\, Poland
END:VEVENT
BEGIN:VEVENT
DTSTART;TZID=Europe/Warsaw:20260122T120000
DTEND;TZID=Europe/Warsaw:20260122T140000
DTSTAMP:20260425T180048
CREATED:20260120T144110Z
LAST-MODIFIED:20260120T144110Z
UID:38077-1769083200-1769090400@biblioteka.ozarow-mazowiecki.pl
SUMMARY:Ożarów – 3F: Filmowe Ferie Familijne
DESCRIPTION:
URL:https://biblioteka.ozarow-mazowiecki.pl/wydarzenie/ozarow-3f-filmowe-ferie-familijne-4/
LOCATION:Biblioteka Publiczna im. Ireny Zarzyckiej w Ożarowie Mazowieckim\, Szkolna 2\, Ożarów Mazowiecki\, mazowieckie\, 05-850\, Poland
END:VEVENT
BEGIN:VEVENT
DTSTART;TZID=Europe/Warsaw:20260123T120000
DTEND;TZID=Europe/Warsaw:20260123T140000
DTSTAMP:20260425T180048
CREATED:20260120T144155Z
LAST-MODIFIED:20260120T144155Z
UID:38079-1769169600-1769176800@biblioteka.ozarow-mazowiecki.pl
SUMMARY:Ożarów – 3F: Filmowe Ferie Familijne
DESCRIPTION:
URL:https://biblioteka.ozarow-mazowiecki.pl/wydarzenie/ozarow-3f-filmowe-ferie-familijne-5/
LOCATION:Biblioteka Publiczna im. Ireny Zarzyckiej w Ożarowie Mazowieckim\, Szkolna 2\, Ożarów Mazowiecki\, mazowieckie\, 05-850\, Poland
END:VEVENT
BEGIN:VEVENT
DTSTART;TZID=Europe/Warsaw:20260125T080000
DTEND;TZID=Europe/Warsaw:20260125T200000
DTSTAMP:20260425T180048
CREATED:20251210T211954Z
LAST-MODIFIED:20260116T143501Z
UID:37402-1769328000-1769371200@biblioteka.ozarow-mazowiecki.pl
SUMMARY:Ożarów - 34. Finał Wielkiej Orkiestry Świątecznej Pomocy
DESCRIPTION:
URL:https://biblioteka.ozarow-mazowiecki.pl/wydarzenie/ozarow-34-final-wielkiej-orkiestry-swiatecznej-pomocy/
LOCATION:Dom Kultury „Uśmiech”\, Poznańska 165\, Ożarów Mazowiecki\, mazowieckie\, 05-850\, Poland
END:VEVENT
BEGIN:VEVENT
DTSTART;TZID=Europe/Warsaw:20260126T110000
DTEND;TZID=Europe/Warsaw:20260126T120000
DTSTAMP:20260425T180048
CREATED:20260120T145225Z
LAST-MODIFIED:20260120T145225Z
UID:38093-1769425200-1769428800@biblioteka.ozarow-mazowiecki.pl
SUMMARY:Ożarów - Ferie jak z Bajki: rodzinne czytanie na dywanie
DESCRIPTION:
URL:https://biblioteka.ozarow-mazowiecki.pl/wydarzenie/ozarow-ferie-jak-z-bajki-rodzinne-czytanie-na-dywanie/
LOCATION:Biblioteka Publiczna im. Ireny Zarzyckiej w Ożarowie Mazowieckim\, Szkolna 2\, Ożarów Mazowiecki\, mazowieckie\, 05-850\, Poland
END:VEVENT
BEGIN:VEVENT
DTSTART;TZID=Europe/Warsaw:20260126T120000
DTEND;TZID=Europe/Warsaw:20260126T140000
DTSTAMP:20260425T180048
CREATED:20260120T144528Z
LAST-MODIFIED:20260120T144528Z
UID:38081-1769428800-1769436000@biblioteka.ozarow-mazowiecki.pl
SUMMARY:Ożarów – 3F: Filmowe Ferie Familijne
DESCRIPTION:
URL:https://biblioteka.ozarow-mazowiecki.pl/wydarzenie/ozarow-3f-filmowe-ferie-familijne-6/
LOCATION:Biblioteka Publiczna im. Ireny Zarzyckiej w Ożarowie Mazowieckim\, Szkolna 2\, Ożarów Mazowiecki\, mazowieckie\, 05-850\, Poland
END:VEVENT
BEGIN:VEVENT
DTSTART;TZID=Europe/Warsaw:20260127T110000
DTEND;TZID=Europe/Warsaw:20260127T120000
DTSTAMP:20260425T180048
CREATED:20260120T145340Z
LAST-MODIFIED:20260120T145340Z
UID:38096-1769511600-1769515200@biblioteka.ozarow-mazowiecki.pl
SUMMARY:Ożarów – Ferie jak z Bajki: rodzinne czytanie na dywanie
DESCRIPTION:
URL:https://biblioteka.ozarow-mazowiecki.pl/wydarzenie/ozarow-ferie-jak-z-bajki-rodzinne-czytanie-na-dywanie-2/
LOCATION:Biblioteka Publiczna im. Ireny Zarzyckiej w Ożarowie Mazowieckim\, Szkolna 2\, Ożarów Mazowiecki\, mazowieckie\, 05-850\, Poland
END:VEVENT
BEGIN:VEVENT
DTSTART;TZID=Europe/Warsaw:20260127T120000
DTEND;TZID=Europe/Warsaw:20260127T140000
DTSTAMP:20260425T180048
CREATED:20260120T144616Z
LAST-MODIFIED:20260120T144616Z
UID:38083-1769515200-1769522400@biblioteka.ozarow-mazowiecki.pl
SUMMARY:Ożarów – 3F: Filmowe Ferie Familijne
DESCRIPTION:
URL:https://biblioteka.ozarow-mazowiecki.pl/wydarzenie/ozarow-3f-filmowe-ferie-familijne-7/
LOCATION:Biblioteka Publiczna im. Ireny Zarzyckiej w Ożarowie Mazowieckim\, Szkolna 2\, Ożarów Mazowiecki\, mazowieckie\, 05-850\, Poland
END:VEVENT
BEGIN:VEVENT
DTSTART;TZID=Europe/Warsaw:20260128T110000
DTEND;TZID=Europe/Warsaw:20260128T120000
DTSTAMP:20260425T180048
CREATED:20260120T145501Z
LAST-MODIFIED:20260120T145501Z
UID:38098-1769598000-1769601600@biblioteka.ozarow-mazowiecki.pl
SUMMARY:Ożarów – Ferie jak z Bajki: rodzinne czytanie na dywanie
DESCRIPTION:
URL:https://biblioteka.ozarow-mazowiecki.pl/wydarzenie/ozarow-ferie-jak-z-bajki-rodzinne-czytanie-na-dywanie-3/
LOCATION:Biblioteka Publiczna im. Ireny Zarzyckiej w Ożarowie Mazowieckim\, Szkolna 2\, Ożarów Mazowiecki\, mazowieckie\, 05-850\, Poland
END:VEVENT
BEGIN:VEVENT
DTSTART;TZID=Europe/Warsaw:20260128T120000
DTEND;TZID=Europe/Warsaw:20260128T140000
DTSTAMP:20260425T180048
CREATED:20260120T144655Z
LAST-MODIFIED:20260120T144655Z
UID:38085-1769601600-1769608800@biblioteka.ozarow-mazowiecki.pl
SUMMARY:Ożarów – 3F: Filmowe Ferie Familijne
DESCRIPTION:
URL:https://biblioteka.ozarow-mazowiecki.pl/wydarzenie/ozarow-3f-filmowe-ferie-familijne-8/
LOCATION:Biblioteka Publiczna im. Ireny Zarzyckiej w Ożarowie Mazowieckim\, Szkolna 2\, Ożarów Mazowiecki\, mazowieckie\, 05-850\, Poland
END:VEVENT
BEGIN:VEVENT
DTSTART;TZID=Europe/Warsaw:20260128T173000
DTEND;TZID=Europe/Warsaw:20260128T190000
DTSTAMP:20260425T180048
CREATED:20260116T143833Z
LAST-MODIFIED:20260116T143833Z
UID:37944-1769621400-1769626800@biblioteka.ozarow-mazowiecki.pl
SUMMARY:Ożarów - Dyskusyjny Klub Książki dla Dorosłych
DESCRIPTION:
URL:https://biblioteka.ozarow-mazowiecki.pl/wydarzenie/ozarow-dyskusyjny-klub-ksiazki-dla-doroslych-17/
LOCATION:Biblioteka Publiczna im. Ireny Zarzyckiej w Ożarowie Mazowieckim\, Szkolna 2\, Ożarów Mazowiecki\, mazowieckie\, 05-850\, Poland
END:VEVENT
BEGIN:VEVENT
DTSTART;TZID=Europe/Warsaw:20260129T110000
DTEND;TZID=Europe/Warsaw:20260129T120000
DTSTAMP:20260425T180048
CREATED:20260120T145610Z
LAST-MODIFIED:20260120T145610Z
UID:38100-1769684400-1769688000@biblioteka.ozarow-mazowiecki.pl
SUMMARY:Ożarów – Ferie jak z Bajki: rodzinne czytanie na dywanie
DESCRIPTION:
URL:https://biblioteka.ozarow-mazowiecki.pl/wydarzenie/ozarow-ferie-jak-z-bajki-rodzinne-czytanie-na-dywanie-4/
LOCATION:Biblioteka Publiczna im. Ireny Zarzyckiej w Ożarowie Mazowieckim\, Szkolna 2\, Ożarów Mazowiecki\, mazowieckie\, 05-850\, Poland
END:VEVENT
BEGIN:VEVENT
DTSTART;TZID=Europe/Warsaw:20260129T120000
DTEND;TZID=Europe/Warsaw:20260129T140000
DTSTAMP:20260425T180048
CREATED:20260120T144739Z
LAST-MODIFIED:20260120T144739Z
UID:38087-1769688000-1769695200@biblioteka.ozarow-mazowiecki.pl
SUMMARY:Ożarów – 3F: Filmowe Ferie Familijne
DESCRIPTION:
URL:https://biblioteka.ozarow-mazowiecki.pl/wydarzenie/ozarow-3f-filmowe-ferie-familijne-9/
LOCATION:Biblioteka Publiczna im. Ireny Zarzyckiej w Ożarowie Mazowieckim\, Szkolna 2\, Ożarów Mazowiecki\, mazowieckie\, 05-850\, Poland
END:VEVENT
BEGIN:VEVENT
DTSTART;TZID=Europe/Warsaw:20260130T110000
DTEND;TZID=Europe/Warsaw:20260130T120000
DTSTAMP:20260425T180048
CREATED:20260120T145658Z
LAST-MODIFIED:20260120T145658Z
UID:38102-1769770800-1769774400@biblioteka.ozarow-mazowiecki.pl
SUMMARY:Ożarów – Ferie jak z Bajki: rodzinne czytanie na dywanie
DESCRIPTION:
URL:https://biblioteka.ozarow-mazowiecki.pl/wydarzenie/ozarow-ferie-jak-z-bajki-rodzinne-czytanie-na-dywanie-5/
LOCATION:Biblioteka Publiczna im. Ireny Zarzyckiej w Ożarowie Mazowieckim\, Szkolna 2\, Ożarów Mazowiecki\, mazowieckie\, 05-850\, Poland
END:VEVENT
BEGIN:VEVENT
DTSTART;TZID=Europe/Warsaw:20260130T120000
DTEND;TZID=Europe/Warsaw:20260130T140000
DTSTAMP:20260425T180048
CREATED:20260120T144822Z
LAST-MODIFIED:20260120T144822Z
UID:38089-1769774400-1769781600@biblioteka.ozarow-mazowiecki.pl
SUMMARY:Ożarów – 3F: Filmowe Ferie Familijne
DESCRIPTION:
URL:https://biblioteka.ozarow-mazowiecki.pl/wydarzenie/ozarow-3f-filmowe-ferie-familijne-10/
LOCATION:Biblioteka Publiczna im. Ireny Zarzyckiej w Ożarowie Mazowieckim\, Szkolna 2\, Ożarów Mazowiecki\, mazowieckie\, 05-850\, Poland
END:VEVENT
BEGIN:VEVENT
DTSTART;TZID=Europe/Warsaw:20260204T100000
DTEND;TZID=Europe/Warsaw:20260204T120000
DTSTAMP:20260425T180048
CREATED:20251210T212355Z
LAST-MODIFIED:20251210T212355Z
UID:37404-1770199200-1770206400@biblioteka.ozarow-mazowiecki.pl
SUMMARY:Ożarów – Nowoczesny senior
DESCRIPTION:Zajęcia dla OUTW
URL:https://biblioteka.ozarow-mazowiecki.pl/wydarzenie/ozarow-nowoczesny-senior-31/
LOCATION:Biblioteka Publiczna im. Ireny Zarzyckiej w Ożarowie Mazowieckim\, Szkolna 2\, Ożarów Mazowiecki\, mazowieckie\, 05-850\, Poland
END:VEVENT
BEGIN:VEVENT
DTSTART;TZID=Europe/Warsaw:20260205T090000
DTEND;TZID=Europe/Warsaw:20260205T100000
DTSTAMP:20260425T180048
CREATED:20251210T213220Z
LAST-MODIFIED:20251210T213220Z
UID:37412-1770282000-1770285600@biblioteka.ozarow-mazowiecki.pl
SUMMARY:Ożarów - Lekcja biblioteczna
DESCRIPTION:Kl. 1C SP nr 1
URL:https://biblioteka.ozarow-mazowiecki.pl/wydarzenie/ozarow-lekcja-biblioteczna-95/
LOCATION:Biblioteka Publiczna im. Ireny Zarzyckiej w Ożarowie Mazowieckim\, Szkolna 2\, Ożarów Mazowiecki\, mazowieckie\, 05-850\, Poland
END:VEVENT
BEGIN:VEVENT
DTSTART;TZID=Europe/Warsaw:20260205T093000
DTEND;TZID=Europe/Warsaw:20260205T130000
DTSTAMP:20260425T180048
CREATED:20260210T092347Z
LAST-MODIFIED:20260210T092535Z
UID:38389-1770283800-1770296400@biblioteka.ozarow-mazowiecki.pl
SUMMARY:Józefów - Pakiety edukacyjne dla mazowieckich seniorów - Wykład "Młody mimo upływu lat"
DESCRIPTION:Wstęp wolny.
URL:https://biblioteka.ozarow-mazowiecki.pl/wydarzenie/pakiety-edukacyjne-dla-mazowieckich-seniorow-wyklad-mlody-mimo-uplywu-lat/
LOCATION:mazowieckie
END:VEVENT
BEGIN:VEVENT
DTSTART;TZID=Europe/Warsaw:20260205T100000
DTEND;TZID=Europe/Warsaw:20260205T110000
DTSTAMP:20260425T180048
CREATED:20260205T133331Z
LAST-MODIFIED:20260205T133331Z
UID:38326-1770285600-1770289200@biblioteka.ozarow-mazowiecki.pl
SUMMARY:Święcice - lekcja biblioteczna
DESCRIPTION:Kl. 2 SP w Święcicach
URL:https://biblioteka.ozarow-mazowiecki.pl/wydarzenie/swiecice-lekcja-biblioteczna-11/
LOCATION:Filia nr 2 w Święcicach\, Warszawska 53\, Święcice\, mazowieckie\, 05-850
END:VEVENT
BEGIN:VEVENT
DTSTART;TZID=Europe/Warsaw:20260206T160000
DTEND;TZID=Europe/Warsaw:20260206T180000
DTSTAMP:20260425T180048
CREATED:20260205T134245Z
LAST-MODIFIED:20260205T134245Z
UID:38330-1770393600-1770400800@biblioteka.ozarow-mazowiecki.pl
SUMMARY:Święcice – Młodzieżowy Klub RPG
DESCRIPTION:
URL:https://biblioteka.ozarow-mazowiecki.pl/wydarzenie/swiecice-mlodziezowy-klub-rpg/
LOCATION:Filia nr 2 w Święcicach\, Warszawska 53\, Święcice\, mazowieckie\, 05-850
END:VEVENT
BEGIN:VEVENT
DTSTART;TZID=Europe/Warsaw:20260209T160000
DTEND;TZID=Europe/Warsaw:20260209T190000
DTSTAMP:20260425T180048
CREATED:20260210T091814Z
LAST-MODIFIED:20260210T091814Z
UID:38383-1770652800-1770663600@biblioteka.ozarow-mazowiecki.pl
SUMMARY:Józefów – Klub Brydżystów
DESCRIPTION:Obowiązują zapisy.
URL:https://biblioteka.ozarow-mazowiecki.pl/wydarzenie/jozefow-klub-brydzystow-74/
LOCATION:Filia nr 1 w Józefowie\, Fabryczna 15\, Płochocin\, mazowieckie\, 05-860
END:VEVENT
BEGIN:VEVENT
DTSTART;TZID=Europe/Warsaw:20260210T095000
DTEND;TZID=Europe/Warsaw:20260210T110000
DTSTAMP:20260425T180048
CREATED:20260116T151301Z
LAST-MODIFIED:20260116T151301Z
UID:37947-1770717000-1770721200@biblioteka.ozarow-mazowiecki.pl
SUMMARY:Ożarów – Lekcja biblioteczna
DESCRIPTION:Klasa 2H SP nr 1
URL:https://biblioteka.ozarow-mazowiecki.pl/wydarzenie/ozarow-lekcja-biblioteczna-97/
LOCATION:Biblioteka Publiczna im. Ireny Zarzyckiej w Ożarowie Mazowieckim\, Szkolna 2\, Ożarów Mazowiecki\, mazowieckie\, 05-850\, Poland
END:VEVENT
BEGIN:VEVENT
DTSTART;TZID=Europe/Warsaw:20260211T120000
DTEND;TZID=Europe/Warsaw:20260211T160000
DTSTAMP:20260425T180048
CREATED:20260210T093458Z
LAST-MODIFIED:20260210T093458Z
UID:38400-1770811200-1770825600@biblioteka.ozarow-mazowiecki.pl
SUMMARY:Józefów - Zaczytane Walentynki
DESCRIPTION:Atrakcje dla wszystkich osób odwiedzających bibliotekę.
URL:https://biblioteka.ozarow-mazowiecki.pl/wydarzenie/jozefow-zaczytane-walentynki-4/
LOCATION:mazowieckie
END:VEVENT
BEGIN:VEVENT
DTSTART;TZID=Europe/Warsaw:20260212T100000
DTEND;TZID=Europe/Warsaw:20260212T120000
DTSTAMP:20260425T180048
CREATED:20260210T091942Z
LAST-MODIFIED:20260210T091942Z
UID:38385-1770890400-1770897600@biblioteka.ozarow-mazowiecki.pl
SUMMARY:Józefów – Klub Pasjonatów
DESCRIPTION:Wstęp wolny.
URL:https://biblioteka.ozarow-mazowiecki.pl/wydarzenie/jozefow-klub-pasjonatow-107/
LOCATION:Filia nr 1 w Józefowie\, Fabryczna 15\, Płochocin\, mazowieckie\, 05-860
END:VEVENT
END:VCALENDAR