BEGIN:VCALENDAR
VERSION:2.0
PRODID:-//Biblioteka Publiczna im. Ireny Zarzyckiej w Ożarowie Mazowieckim - ECPv6.15.12.2//NONSGML v1.0//EN
CALSCALE:GREGORIAN
METHOD:PUBLISH
X-ORIGINAL-URL:https://biblioteka.ozarow-mazowiecki.pl
X-WR-CALDESC:Wydarzenia dla Biblioteka Publiczna im. Ireny Zarzyckiej w Ożarowie Mazowieckim
REFRESH-INTERVAL;VALUE=DURATION:PT1H
X-Robots-Tag:noindex
X-PUBLISHED-TTL:PT1H
BEGIN:VTIMEZONE
TZID:Europe/Warsaw
BEGIN:DAYLIGHT
TZOFFSETFROM:+0100
TZOFFSETTO:+0200
TZNAME:CEST
DTSTART:20250330T010000
END:DAYLIGHT
BEGIN:STANDARD
TZOFFSETFROM:+0200
TZOFFSETTO:+0100
TZNAME:CET
DTSTART:20251026T010000
END:STANDARD
BEGIN:DAYLIGHT
TZOFFSETFROM:+0100
TZOFFSETTO:+0200
TZNAME:CEST
DTSTART:20260329T010000
END:DAYLIGHT
BEGIN:STANDARD
TZOFFSETFROM:+0200
TZOFFSETTO:+0100
TZNAME:CET
DTSTART:20261025T010000
END:STANDARD
BEGIN:DAYLIGHT
TZOFFSETFROM:+0100
TZOFFSETTO:+0200
TZNAME:CEST
DTSTART:20270328T010000
END:DAYLIGHT
BEGIN:STANDARD
TZOFFSETFROM:+0200
TZOFFSETTO:+0100
TZNAME:CET
DTSTART:20271031T010000
END:STANDARD
END:VTIMEZONE
BEGIN:VEVENT
DTSTART;TZID=Europe/Warsaw:20260128T110000
DTEND;TZID=Europe/Warsaw:20260128T120000
DTSTAMP:20260425T192317
CREATED:20260120T145501Z
LAST-MODIFIED:20260120T145501Z
UID:38098-1769598000-1769601600@biblioteka.ozarow-mazowiecki.pl
SUMMARY:Ożarów – Ferie jak z Bajki: rodzinne czytanie na dywanie
DESCRIPTION:
URL:https://biblioteka.ozarow-mazowiecki.pl/wydarzenie/ozarow-ferie-jak-z-bajki-rodzinne-czytanie-na-dywanie-3/
LOCATION:Biblioteka Publiczna im. Ireny Zarzyckiej w Ożarowie Mazowieckim\, Szkolna 2\, Ożarów Mazowiecki\, mazowieckie\, 05-850\, Poland
END:VEVENT
BEGIN:VEVENT
DTSTART;TZID=Europe/Warsaw:20260129T110000
DTEND;TZID=Europe/Warsaw:20260129T120000
DTSTAMP:20260425T192317
CREATED:20260120T145610Z
LAST-MODIFIED:20260120T145610Z
UID:38100-1769684400-1769688000@biblioteka.ozarow-mazowiecki.pl
SUMMARY:Ożarów – Ferie jak z Bajki: rodzinne czytanie na dywanie
DESCRIPTION:
URL:https://biblioteka.ozarow-mazowiecki.pl/wydarzenie/ozarow-ferie-jak-z-bajki-rodzinne-czytanie-na-dywanie-4/
LOCATION:Biblioteka Publiczna im. Ireny Zarzyckiej w Ożarowie Mazowieckim\, Szkolna 2\, Ożarów Mazowiecki\, mazowieckie\, 05-850\, Poland
END:VEVENT
BEGIN:VEVENT
DTSTART;TZID=Europe/Warsaw:20260130T110000
DTEND;TZID=Europe/Warsaw:20260130T120000
DTSTAMP:20260425T192317
CREATED:20260120T145658Z
LAST-MODIFIED:20260120T145658Z
UID:38102-1769770800-1769774400@biblioteka.ozarow-mazowiecki.pl
SUMMARY:Ożarów – Ferie jak z Bajki: rodzinne czytanie na dywanie
DESCRIPTION:
URL:https://biblioteka.ozarow-mazowiecki.pl/wydarzenie/ozarow-ferie-jak-z-bajki-rodzinne-czytanie-na-dywanie-5/
LOCATION:Biblioteka Publiczna im. Ireny Zarzyckiej w Ożarowie Mazowieckim\, Szkolna 2\, Ożarów Mazowiecki\, mazowieckie\, 05-850\, Poland
END:VEVENT
BEGIN:VEVENT
DTSTART;TZID=Europe/Warsaw:20260205T090000
DTEND;TZID=Europe/Warsaw:20260205T100000
DTSTAMP:20260425T192317
CREATED:20251210T213220Z
LAST-MODIFIED:20251210T213220Z
UID:37412-1770282000-1770285600@biblioteka.ozarow-mazowiecki.pl
SUMMARY:Ożarów - Lekcja biblioteczna
DESCRIPTION:Kl. 1C SP nr 1
URL:https://biblioteka.ozarow-mazowiecki.pl/wydarzenie/ozarow-lekcja-biblioteczna-95/
LOCATION:Biblioteka Publiczna im. Ireny Zarzyckiej w Ożarowie Mazowieckim\, Szkolna 2\, Ożarów Mazowiecki\, mazowieckie\, 05-850\, Poland
END:VEVENT
BEGIN:VEVENT
DTSTART;TZID=Europe/Warsaw:20260205T100000
DTEND;TZID=Europe/Warsaw:20260205T110000
DTSTAMP:20260425T192317
CREATED:20260205T133331Z
LAST-MODIFIED:20260205T133331Z
UID:38326-1770285600-1770289200@biblioteka.ozarow-mazowiecki.pl
SUMMARY:Święcice - lekcja biblioteczna
DESCRIPTION:Kl. 2 SP w Święcicach
URL:https://biblioteka.ozarow-mazowiecki.pl/wydarzenie/swiecice-lekcja-biblioteczna-11/
LOCATION:Filia nr 2 w Święcicach\, Warszawska 53\, Święcice\, mazowieckie\, 05-850
END:VEVENT
BEGIN:VEVENT
DTSTART;TZID=Europe/Warsaw:20260210T095000
DTEND;TZID=Europe/Warsaw:20260210T110000
DTSTAMP:20260425T192317
CREATED:20260116T151301Z
LAST-MODIFIED:20260116T151301Z
UID:37947-1770717000-1770721200@biblioteka.ozarow-mazowiecki.pl
SUMMARY:Ożarów – Lekcja biblioteczna
DESCRIPTION:Klasa 2H SP nr 1
URL:https://biblioteka.ozarow-mazowiecki.pl/wydarzenie/ozarow-lekcja-biblioteczna-97/
LOCATION:Biblioteka Publiczna im. Ireny Zarzyckiej w Ożarowie Mazowieckim\, Szkolna 2\, Ożarów Mazowiecki\, mazowieckie\, 05-850\, Poland
END:VEVENT
BEGIN:VEVENT
DTSTART;TZID=Europe/Warsaw:20260219T100000
DTEND;TZID=Europe/Warsaw:20260219T110000
DTSTAMP:20260425T192317
CREATED:20260219T111506Z
LAST-MODIFIED:20260219T111552Z
UID:38457-1771495200-1771498800@biblioteka.ozarow-mazowiecki.pl
SUMMARY:Święcice – lekcja biblioteczna
DESCRIPTION:Kl. 3 SP w Święcicach
URL:https://biblioteka.ozarow-mazowiecki.pl/wydarzenie/swiecice-lekcja-biblioteczna-12/
LOCATION:Filia nr 2 w Święcicach\, Warszawska 53\, Święcice\, mazowieckie\, 05-850
END:VEVENT
BEGIN:VEVENT
DTSTART;TZID=Europe/Warsaw:20260310T104500
DTEND;TZID=Europe/Warsaw:20260310T120000
DTSTAMP:20260425T192317
CREATED:20260224T202416Z
LAST-MODIFIED:20260224T202416Z
UID:38579-1773139500-1773144000@biblioteka.ozarow-mazowiecki.pl
SUMMARY:Ożarów – Wypożyczalnia Dobrej Zabawy
DESCRIPTION:Zajęcia dla dzieci i rodziców w Klubie „Ożarówka”
URL:https://biblioteka.ozarow-mazowiecki.pl/wydarzenie/ozarow-wypozyczalnia-dobrej-zabawy-71/
LOCATION:Ożarówka  Klub Integracji Rodzinno-Sąsiedzkiej\, Poznańska 183\, Ożarów Mazowiecki\, mazowieckie\, 05-850
END:VEVENT
BEGIN:VEVENT
DTSTART;TZID=Europe/Warsaw:20260311T100000
DTEND;TZID=Europe/Warsaw:20260311T111000
DTSTAMP:20260425T192317
CREATED:20260305T134536Z
LAST-MODIFIED:20260305T134536Z
UID:38680-1773223200-1773227400@biblioteka.ozarow-mazowiecki.pl
SUMMARY:Józefów – Lekcja biblioteczna
DESCRIPTION:Grupy Kotki i Pszczółki z Przedszkola Publicznego w Józefowie (na wymianę).
URL:https://biblioteka.ozarow-mazowiecki.pl/wydarzenie/jozefow-lekcja-biblioteczna-74/
LOCATION:Filia nr 1 w Józefowie\, Fabryczna 15\, Płochocin\, mazowieckie\, 05-860
END:VEVENT
BEGIN:VEVENT
DTSTART;TZID=Europe/Warsaw:20260317T090000
DTEND;TZID=Europe/Warsaw:20260317T103000
DTSTAMP:20260425T192317
CREATED:20260224T202653Z
LAST-MODIFIED:20260224T202653Z
UID:38581-1773738000-1773743400@biblioteka.ozarow-mazowiecki.pl
SUMMARY:Ożarów – Lekcja biblioteczna
DESCRIPTION:Zajęcia dla kl. 0 SP Pallotti
URL:https://biblioteka.ozarow-mazowiecki.pl/wydarzenie/ozarow-lekcja-biblioteczna-96/
LOCATION:Biblioteka Publiczna im. Ireny Zarzyckiej w Ożarowie Mazowieckim\, Szkolna 2\, Ożarów Mazowiecki\, mazowieckie\, 05-850\, Poland
END:VEVENT
BEGIN:VEVENT
DTSTART;TZID=Europe/Warsaw:20260319T100000
DTEND;TZID=Europe/Warsaw:20260319T110000
DTSTAMP:20260425T192317
CREATED:20260223T130129Z
LAST-MODIFIED:20260223T130129Z
UID:38524-1773914400-1773918000@biblioteka.ozarow-mazowiecki.pl
SUMMARY:Święcice – lekcja biblioteczna - Fryderyk Chopin
DESCRIPTION:Kl. 3 SP w Święcicach
URL:https://biblioteka.ozarow-mazowiecki.pl/wydarzenie/swiecice-lekcja-biblioteczna-fryderyk-chopin/
LOCATION:Filia nr 2 w Święcicach\, Warszawska 53\, Święcice\, mazowieckie\, 05-850
END:VEVENT
BEGIN:VEVENT
DTSTART;TZID=Europe/Warsaw:20260324T093000
DTEND;TZID=Europe/Warsaw:20260324T113000
DTSTAMP:20260425T192317
CREATED:20260305T134634Z
LAST-MODIFIED:20260305T134713Z
UID:38682-1774344600-1774351800@biblioteka.ozarow-mazowiecki.pl
SUMMARY:Józefów – Lekcja biblioteczna
DESCRIPTION:Grupy Zajączki i Żabki z Przedszkola Publicznego w Józefowie (na wymianę).
URL:https://biblioteka.ozarow-mazowiecki.pl/wydarzenie/jozefow-lekcja-biblioteczna-75/
LOCATION:Filia nr 1 w Józefowie\, Fabryczna 15\, Płochocin\, mazowieckie\, 05-860
END:VEVENT
BEGIN:VEVENT
DTSTART;TZID=Europe/Warsaw:20260327T093000
DTEND;TZID=Europe/Warsaw:20260327T113000
DTSTAMP:20260425T192317
CREATED:20260324T205707Z
LAST-MODIFIED:20260324T205707Z
UID:38870-1774603800-1774611000@biblioteka.ozarow-mazowiecki.pl
SUMMARY:Józefów – Lekcja biblioteczna
DESCRIPTION:Grupy Biedronki i Rybki z Przedszkola Publicznego w Józefowie (na wymianę).
URL:https://biblioteka.ozarow-mazowiecki.pl/wydarzenie/jozefow-lekcja-biblioteczna-76/
LOCATION:Filia nr 1 w Józefowie\, Fabryczna 15\, Płochocin\, mazowieckie\, 05-860
END:VEVENT
BEGIN:VEVENT
DTSTART;TZID=Europe/Warsaw:20260414T090000
DTEND;TZID=Europe/Warsaw:20260414T103000
DTSTAMP:20260425T192317
CREATED:20260403T110905Z
LAST-MODIFIED:20260403T110905Z
UID:38974-1776157200-1776162600@biblioteka.ozarow-mazowiecki.pl
SUMMARY:Ożarów – Lekcja biblioteczna
DESCRIPTION:Klasy 1A i 1C SP nr 2
URL:https://biblioteka.ozarow-mazowiecki.pl/wydarzenie/ozarow-lekcja-biblioteczna-98/
LOCATION:Biblioteka Publiczna im. Ireny Zarzyckiej w Ożarowie Mazowieckim\, Szkolna 2\, Ożarów Mazowiecki\, mazowieckie\, 05-850\, Poland
END:VEVENT
BEGIN:VEVENT
DTSTART;TZID=Europe/Warsaw:20260416T090000
DTEND;TZID=Europe/Warsaw:20260416T103000
DTSTAMP:20260425T192317
CREATED:20260403T111028Z
LAST-MODIFIED:20260403T111028Z
UID:38976-1776330000-1776335400@biblioteka.ozarow-mazowiecki.pl
SUMMARY:Ożarów – Lekcja biblioteczna
DESCRIPTION:Klasy 1B i 1D SP nr 2
URL:https://biblioteka.ozarow-mazowiecki.pl/wydarzenie/ozarow-lekcja-biblioteczna-99/
LOCATION:Biblioteka Publiczna im. Ireny Zarzyckiej w Ożarowie Mazowieckim\, Szkolna 2\, Ożarów Mazowiecki\, mazowieckie\, 05-850\, Poland
END:VEVENT
BEGIN:VEVENT
DTSTART;TZID=Europe/Warsaw:20260420T100000
DTEND;TZID=Europe/Warsaw:20260420T111500
DTSTAMP:20260425T192317
CREATED:20260414T115918Z
LAST-MODIFIED:20260414T121111Z
UID:39234-1776679200-1776683700@biblioteka.ozarow-mazowiecki.pl
SUMMARY:Święcice – Lekcja biblioteczna
DESCRIPTION:Zajęcia dla kl. 2B SP w Święcicach
URL:https://biblioteka.ozarow-mazowiecki.pl/wydarzenie/swiecice-lekcja-biblioteczna-14/
LOCATION:Filia nr 2 w Święcicach\, Warszawska 53\, Święcice\, mazowieckie\, 05-850
END:VEVENT
BEGIN:VEVENT
DTSTART;TZID=Europe/Warsaw:20260423T100000
DTEND;TZID=Europe/Warsaw:20260423T110000
DTSTAMP:20260425T192317
CREATED:20260412T192656Z
LAST-MODIFIED:20260412T192656Z
UID:39100-1776938400-1776942000@biblioteka.ozarow-mazowiecki.pl
SUMMARY:Święcice - Lekcja biblioteczna
DESCRIPTION:Zajęcia dla kl. 2 SP w Święcicach
URL:https://biblioteka.ozarow-mazowiecki.pl/wydarzenie/swiecice-lekcja-biblioteczna-13/
LOCATION:Filia nr 2 w Święcicach\, Warszawska 53\, Święcice\, mazowieckie\, 05-850
END:VEVENT
BEGIN:VEVENT
DTSTART;TZID=Europe/Warsaw:20260428T093000
DTEND;TZID=Europe/Warsaw:20260428T110000
DTSTAMP:20260425T192317
CREATED:20260415T115048Z
LAST-MODIFIED:20260415T115830Z
UID:39251-1777368600-1777374000@biblioteka.ozarow-mazowiecki.pl
SUMMARY:Ożarów – Lekcja biblioteczna
DESCRIPTION:Zajęcia dla grup Wiewiórki i Motylki PP nr 2
URL:https://biblioteka.ozarow-mazowiecki.pl/wydarzenie/ozarow-lekcja-biblioteczna-102/
LOCATION:Biblioteka Publiczna im. Ireny Zarzyckiej w Ożarowie Mazowieckim\, Szkolna 2\, Ożarów Mazowiecki\, mazowieckie\, 05-850\, Poland
END:VEVENT
BEGIN:VEVENT
DTSTART;TZID=Europe/Warsaw:20260429T093000
DTEND;TZID=Europe/Warsaw:20260429T110000
DTSTAMP:20260425T192317
CREATED:20260412T195603Z
LAST-MODIFIED:20260412T195603Z
UID:39119-1777455000-1777460400@biblioteka.ozarow-mazowiecki.pl
SUMMARY:Ożarów – Lekcja biblioteczna
DESCRIPTION:Zajęcia dla grup Biedronki i Zajączki PP nr 2
URL:https://biblioteka.ozarow-mazowiecki.pl/wydarzenie/ozarow-lekcja-biblioteczna-100/
LOCATION:Biblioteka Publiczna im. Ireny Zarzyckiej w Ożarowie Mazowieckim\, Szkolna 2\, Ożarów Mazowiecki\, mazowieckie\, 05-850\, Poland
END:VEVENT
BEGIN:VEVENT
DTSTART;TZID=Europe/Warsaw:20260504T090000
DTEND;TZID=Europe/Warsaw:20260504T103000
DTSTAMP:20260425T192317
CREATED:20260412T195824Z
LAST-MODIFIED:20260412T200529Z
UID:39121-1777885200-1777890600@biblioteka.ozarow-mazowiecki.pl
SUMMARY:Ożarów – Wypożyczalnia Dobrej Zabawy
DESCRIPTION:Zajęcia w Przedszkolu Akademia pod Modrzewiem – Ołtarzew. 2 grupy 4-latków.
URL:https://biblioteka.ozarow-mazowiecki.pl/wydarzenie/ozarow-wypozyczalnia-dobrej-zabawy-72/
LOCATION:Akademia pod Modrzewiem Filia Ołtarzew\, Hallera 10\, Ożarów Mazowiecki\, mazowieckie\, 05-850
END:VEVENT
BEGIN:VEVENT
DTSTART;TZID=Europe/Warsaw:20260504T110000
DTEND;TZID=Europe/Warsaw:20260504T120000
DTSTAMP:20260425T192317
CREATED:20260412T195946Z
LAST-MODIFIED:20260412T200733Z
UID:39123-1777892400-1777896000@biblioteka.ozarow-mazowiecki.pl
SUMMARY:Ożarów – Wypożyczalnia Dobrej Zabawy
DESCRIPTION:Zajęcia w Przedszkolu Akademia pod Modrzewiem – Macierzysz. 1 grupa 4-latków.
URL:https://biblioteka.ozarow-mazowiecki.pl/wydarzenie/ozarow-wypozyczalnia-dobrej-zabawy-73/
LOCATION:Akademia pod Modrzewiem\, Sochaczewska 89a\, Macierzysz\, mazowieckie\, 05-850
END:VEVENT
BEGIN:VEVENT
DTSTART;TZID=Europe/Warsaw:20260505T093000
DTEND;TZID=Europe/Warsaw:20260505T103000
DTSTAMP:20260425T192317
CREATED:20260412T200133Z
LAST-MODIFIED:20260412T200133Z
UID:39125-1777973400-1777977000@biblioteka.ozarow-mazowiecki.pl
SUMMARY:Ożarów – Lekcja biblioteczna
DESCRIPTION:Kl. 0 gr. 7 SP nr 1
URL:https://biblioteka.ozarow-mazowiecki.pl/wydarzenie/ozarow-lekcja-biblioteczna-101/
LOCATION:Biblioteka Publiczna im. Ireny Zarzyckiej w Ożarowie Mazowieckim\, Szkolna 2\, Ożarów Mazowiecki\, mazowieckie\, 05-850\, Poland
END:VEVENT
BEGIN:VEVENT
DTSTART;TZID=Europe/Warsaw:20260507T091500
DTEND;TZID=Europe/Warsaw:20260507T110000
DTSTAMP:20260425T192317
CREATED:20260412T200459Z
LAST-MODIFIED:20260412T200459Z
UID:39129-1778145300-1778151600@biblioteka.ozarow-mazowiecki.pl
SUMMARY:Ożarów – Wypożyczalnia Dobrej Zabawy
DESCRIPTION:Zajęcia dla grup 3-4 i 4-5 latków w PP w Broniszach
URL:https://biblioteka.ozarow-mazowiecki.pl/wydarzenie/ozarow-wypozyczalnia-dobrej-zabawy-74/
LOCATION:Przedszkole w Broniszach\, Kwiatowa 13\, Ożarów Mazowiecki\, mazowieckie\, 05-850
END:VEVENT
BEGIN:VEVENT
DTSTART;TZID=Europe/Warsaw:20260601T170000
DTEND;TZID=Europe/Warsaw:20260601T180000
DTSTAMP:20260425T192317
CREATED:20260414T171514Z
LAST-MODIFIED:20260414T171514Z
UID:39247-1780333200-1780336800@biblioteka.ozarow-mazowiecki.pl
SUMMARY:Ożarów – Tydzień Czytania Dzieciom / Biblioteka podwórkowa
DESCRIPTION:Wstęp wolny!
URL:https://biblioteka.ozarow-mazowiecki.pl/wydarzenie/ozarow-tydzien-czytania-dzieciom-biblioteka-podworkowa/
LOCATION:Plac zabaw przy bibliobudce\, Poznańska 288\, Ożarów Mazowiecki\, mazowieckie\, 05-850
END:VEVENT
BEGIN:VEVENT
DTSTART;TZID=Europe/Warsaw:20260602T103000
DTEND;TZID=Europe/Warsaw:20260602T113000
DTSTAMP:20260425T192317
CREATED:20260412T205847Z
LAST-MODIFIED:20260412T205847Z
UID:39169-1780396200-1780399800@biblioteka.ozarow-mazowiecki.pl
SUMMARY:Ożarów - Tydzień Czytania Dzieciom / Klub Rodzica Ożarówka
DESCRIPTION:Zajęcia dla dzieci i rodziców.
URL:https://biblioteka.ozarow-mazowiecki.pl/wydarzenie/ozarow-tydzien-czytania-dzieciom-klub-rodzica-ozarowka/
LOCATION:Ożarówka  Klub Integracji Rodzinno-Sąsiedzkiej\, Poznańska 183\, Ożarów Mazowiecki\, mazowieckie\, 05-850
END:VEVENT
BEGIN:VEVENT
DTSTART;TZID=Europe/Warsaw:20260602T180000
DTEND;TZID=Europe/Warsaw:20260602T200000
DTSTAMP:20260425T192317
CREATED:20260412T210213Z
LAST-MODIFIED:20260412T210523Z
UID:39171-1780423200-1780430400@biblioteka.ozarow-mazowiecki.pl
SUMMARY:Ożarów – Tydzień Czytania Dzieciom / Świetlica w Macierzyszu (Filia DK Uśmiech)
DESCRIPTION:Wstęp wolny
URL:https://biblioteka.ozarow-mazowiecki.pl/wydarzenie/ozarow-tydzien-czytania-dzieciom-swietlica-w-macierzyszu-filia-dk-usmiech/
LOCATION:Dom Kultury „Uśmiech” – Filia Macierzysz\, Sochaczewska 89A\, Ożarów Mazowiecki\, warszawski zachodni\, 05-850
END:VEVENT
BEGIN:VEVENT
DTSTART;TZID=Europe/Warsaw:20260603T093000
DTEND;TZID=Europe/Warsaw:20260603T133000
DTSTAMP:20260425T192317
CREATED:20260412T210835Z
LAST-MODIFIED:20260412T210835Z
UID:39174-1780479000-1780493400@biblioteka.ozarow-mazowiecki.pl
SUMMARY:Ożarów – Tydzień Czytania Dzieciom / Przedszkole "Magiczny Ogród"
DESCRIPTION:Spotkania dla wszystkich grup\, czytają m.in. Uczniowie ZS nr 1.
URL:https://biblioteka.ozarow-mazowiecki.pl/wydarzenie/ozarow-tydzien-czytania-dzieciom-przedszkole-magiczny-ogrod/
LOCATION:Przedszkole Publiczne nr 2\, Poznańska 135\, Ożarów Mazowiecki\, warszawski zachodni\, 05-850
END:VEVENT
BEGIN:VEVENT
DTSTART;TZID=Europe/Warsaw:20260606T110000
DTEND;TZID=Europe/Warsaw:20260606T130000
DTSTAMP:20260425T192317
CREATED:20260412T211036Z
LAST-MODIFIED:20260412T211121Z
UID:39176-1780743600-1780750800@biblioteka.ozarow-mazowiecki.pl
SUMMARY:Ożarów – Tydzień Czytania Dzieciom / Finał akcji "Mała Książka - Wielki Człowiek"
DESCRIPTION:Spotkanie dla uczestników akcji.
URL:https://biblioteka.ozarow-mazowiecki.pl/wydarzenie/ozarow-tydzien-czytania-dzieciom-final-akcji-mala-ksiazka-wielki-czlowiek/
LOCATION:Szkoła Podstawowa nr 1\, Szkolna 2\, Ożarów Mazowiecki\, mazowieckie\, 05-850
END:VEVENT
BEGIN:VEVENT
DTSTART;TZID=Europe/Warsaw:20260608T090000
DTEND;TZID=Europe/Warsaw:20260608T101500
DTSTAMP:20260425T192317
CREATED:20260412T211316Z
LAST-MODIFIED:20260412T211316Z
UID:39178-1780909200-1780913700@biblioteka.ozarow-mazowiecki.pl
SUMMARY:Józefów – Tydzień Czytania Dzieciom / Filia nr 1 w Józefowie
DESCRIPTION:Spotkanie dla dwóch grup 4-latków z Przedszkola w Józefowie.
URL:https://biblioteka.ozarow-mazowiecki.pl/wydarzenie/jozefow-tydzien-czytania-dzieciom-filia-nr-1-w-jozefowie/
LOCATION:Filia nr 1 w Józefowie\, Fabryczna 15\, Płochocin\, mazowieckie\, 05-860
END:VEVENT
BEGIN:VEVENT
DTSTART;TZID=Europe/Warsaw:20260608T103000
DTEND;TZID=Europe/Warsaw:20260608T113000
DTSTAMP:20260425T192317
CREATED:20260412T211452Z
LAST-MODIFIED:20260412T211452Z
UID:39180-1780914600-1780918200@biblioteka.ozarow-mazowiecki.pl
SUMMARY:Józefów – Tydzień Czytania Dzieciom / Filia nr 1 w Józefowie
DESCRIPTION:Spotkanie dla kl. „0” C SP w Płochocinie
URL:https://biblioteka.ozarow-mazowiecki.pl/wydarzenie/jozefow-tydzien-czytania-dzieciom-filia-nr-1-w-jozefowie-2/
LOCATION:Filia nr 1 w Józefowie\, Fabryczna 15\, Płochocin\, mazowieckie\, 05-860
END:VEVENT
END:VCALENDAR