BEGIN:VCALENDAR
VERSION:2.0
PRODID:-//Biblioteka Publiczna im. Ireny Zarzyckiej w Ożarowie Mazowieckim - ECPv6.15.12.2//NONSGML v1.0//EN
CALSCALE:GREGORIAN
METHOD:PUBLISH
X-ORIGINAL-URL:https://biblioteka.ozarow-mazowiecki.pl
X-WR-CALDESC:Wydarzenia dla Biblioteka Publiczna im. Ireny Zarzyckiej w Ożarowie Mazowieckim
REFRESH-INTERVAL;VALUE=DURATION:PT1H
X-Robots-Tag:noindex
X-PUBLISHED-TTL:PT1H
BEGIN:VTIMEZONE
TZID:Europe/Warsaw
BEGIN:DAYLIGHT
TZOFFSETFROM:+0100
TZOFFSETTO:+0200
TZNAME:CEST
DTSTART:20190331T010000
END:DAYLIGHT
BEGIN:STANDARD
TZOFFSETFROM:+0200
TZOFFSETTO:+0100
TZNAME:CET
DTSTART:20191027T010000
END:STANDARD
BEGIN:DAYLIGHT
TZOFFSETFROM:+0100
TZOFFSETTO:+0200
TZNAME:CEST
DTSTART:20200329T010000
END:DAYLIGHT
BEGIN:STANDARD
TZOFFSETFROM:+0200
TZOFFSETTO:+0100
TZNAME:CET
DTSTART:20201025T010000
END:STANDARD
BEGIN:DAYLIGHT
TZOFFSETFROM:+0100
TZOFFSETTO:+0200
TZNAME:CEST
DTSTART:20210328T010000
END:DAYLIGHT
BEGIN:STANDARD
TZOFFSETFROM:+0200
TZOFFSETTO:+0100
TZNAME:CET
DTSTART:20211031T010000
END:STANDARD
BEGIN:DAYLIGHT
TZOFFSETFROM:+0100
TZOFFSETTO:+0200
TZNAME:CEST
DTSTART:20220327T010000
END:DAYLIGHT
BEGIN:STANDARD
TZOFFSETFROM:+0200
TZOFFSETTO:+0100
TZNAME:CET
DTSTART:20221030T010000
END:STANDARD
END:VTIMEZONE
BEGIN:VEVENT
DTSTART;TZID=Europe/Warsaw:20211118T173000
DTEND;TZID=Europe/Warsaw:20211118T183000
DTSTAMP:20260425T150020
CREATED:20211008T103709Z
LAST-MODIFIED:20211008T103709Z
UID:8322-1637256600-1637260200@biblioteka.ozarow-mazowiecki.pl
SUMMARY:Ożarów – Podstawy kodowania dla najmłodszych
DESCRIPTION:
URL:https://biblioteka.ozarow-mazowiecki.pl/wydarzenie/ozarow-podstawy-kodowania-dla-najmlodszych-5/
LOCATION:Biblioteka Publiczna im. Ireny Zarzyckiej w Ożarowie Mazowieckim\, Szkolna 2\, Ożarów Mazowiecki\, mazowieckie\, 05-850\, Poland
END:VEVENT
BEGIN:VEVENT
DTSTART;TZID=Europe/Warsaw:20211028T173000
DTEND;TZID=Europe/Warsaw:20211028T183000
DTSTAMP:20260425T150020
CREATED:20211008T103604Z
LAST-MODIFIED:20211008T103604Z
UID:8320-1635442200-1635445800@biblioteka.ozarow-mazowiecki.pl
SUMMARY:Ożarów – Podstawy kodowania dla najmłodszych
DESCRIPTION:
URL:https://biblioteka.ozarow-mazowiecki.pl/wydarzenie/ozarow-podstawy-kodowania-dla-najmlodszych-4/
LOCATION:Biblioteka Publiczna im. Ireny Zarzyckiej w Ożarowie Mazowieckim\, Szkolna 2\, Ożarów Mazowiecki\, mazowieckie\, 05-850\, Poland
END:VEVENT
BEGIN:VEVENT
DTSTART;TZID=Europe/Warsaw:20211021T173000
DTEND;TZID=Europe/Warsaw:20211021T183000
DTSTAMP:20260425T150020
CREATED:20211008T103509Z
LAST-MODIFIED:20211008T103509Z
UID:8318-1634837400-1634841000@biblioteka.ozarow-mazowiecki.pl
SUMMARY:Ożarów – Podstawy kodowania dla najmłodszych
DESCRIPTION:
URL:https://biblioteka.ozarow-mazowiecki.pl/wydarzenie/ozarow-podstawy-kodowania-dla-najmlodszych-3/
LOCATION:Biblioteka Publiczna w Ożarowie Mazowieckim\, Szkolna 2\, Ożarów Mazowiecki\, mazowieckie\, 05-850\, Poland
END:VEVENT
BEGIN:VEVENT
DTSTART;TZID=Europe/Warsaw:20211014T173000
DTEND;TZID=Europe/Warsaw:20211014T183000
DTSTAMP:20260425T150020
CREATED:20211008T103423Z
LAST-MODIFIED:20211008T103423Z
UID:8315-1634232600-1634236200@biblioteka.ozarow-mazowiecki.pl
SUMMARY:Ożarów – Podstawy kodowania dla najmłodszych
DESCRIPTION:
URL:https://biblioteka.ozarow-mazowiecki.pl/wydarzenie/ozarow-podstawy-kodowania-dla-najmlodszych-2/
LOCATION:Biblioteka Publiczna im. Ireny Zarzyckiej w Ożarowie Mazowieckim\, Szkolna 2\, Ożarów Mazowiecki\, mazowieckie\, 05-850\, Poland
END:VEVENT
BEGIN:VEVENT
DTSTART;TZID=Europe/Warsaw:20211007T173000
DTEND;TZID=Europe/Warsaw:20211007T183000
DTSTAMP:20260425T150020
CREATED:20211007T175921Z
LAST-MODIFIED:20211007T175921Z
UID:8293-1633627800-1633631400@biblioteka.ozarow-mazowiecki.pl
SUMMARY:Ożarów - Podstawy kodowania dla najmłodszych
DESCRIPTION:Zajęcia na zapisy: l.wojdyga@biblioteka.ozarow-mazowiecki.pl
URL:https://biblioteka.ozarow-mazowiecki.pl/wydarzenie/ozarow-podstawy-kodowania-dla-najmlodszych/
LOCATION:Biblioteka Publiczna w Ożarowie Mazowieckim\, Szkolna 2\, Ożarów Mazowiecki\, mazowieckie\, 05-850\, Poland
END:VEVENT
BEGIN:VEVENT
DTSTART;TZID=Europe/Warsaw:20201126T180000
DTEND;TZID=Europe/Warsaw:20201126T200000
DTSTAMP:20260425T150020
CREATED:20201102T083350Z
LAST-MODIFIED:20201102T083350Z
UID:4366-1606413600-1606420800@biblioteka.ozarow-mazowiecki.pl
SUMMARY:Ożarów - kodowanie online
DESCRIPTION:
URL:https://biblioteka.ozarow-mazowiecki.pl/wydarzenie/ozarow-kodowanie-online-2/
LOCATION:Biblioteka Publiczna im. Ireny Zarzyckiej w Ożarowie Mazowieckim\, Szkolna 2\, Ożarów Mazowiecki\, mazowieckie\, 05-850\, Poland
END:VEVENT
BEGIN:VEVENT
DTSTART;TZID=Europe/Warsaw:20201119T180000
DTEND;TZID=Europe/Warsaw:20201119T200000
DTSTAMP:20260425T150020
CREATED:20201102T083150Z
LAST-MODIFIED:20201102T083253Z
UID:4364-1605808800-1605816000@biblioteka.ozarow-mazowiecki.pl
SUMMARY:Ożarów - kodowanie online
DESCRIPTION:
URL:https://biblioteka.ozarow-mazowiecki.pl/wydarzenie/ozarow-kodowanie-online/
LOCATION:Biblioteka Publiczna im. Ireny Zarzyckiej w Ożarowie Mazowieckim\, Szkolna 2\, Ożarów Mazowiecki\, mazowieckie\, 05-850\, Poland
END:VEVENT
BEGIN:VEVENT
DTSTART;TZID=Europe/Warsaw:20201112T180000
DTEND;TZID=Europe/Warsaw:20201112T200000
DTSTAMP:20260425T150020
CREATED:20200917T145754Z
LAST-MODIFIED:20201102T082805Z
UID:3607-1605204000-1605211200@biblioteka.ozarow-mazowiecki.pl
SUMMARY:Ożarów - Kodowanie online
DESCRIPTION:
URL:https://biblioteka.ozarow-mazowiecki.pl/wydarzenie/ozarow-kodowanie-4/
LOCATION:Biblioteka Publiczna im. Ireny Zarzyckiej w Ożarowie Mazowieckim\, Szkolna 2\, Ożarów Mazowiecki\, mazowieckie\, 05-850\, Poland
END:VEVENT
BEGIN:VEVENT
DTSTART;TZID=Europe/Warsaw:20201105T180000
DTEND;TZID=Europe/Warsaw:20201105T200000
DTSTAMP:20260425T150020
CREATED:20200917T150037Z
LAST-MODIFIED:20201102T083022Z
UID:3609-1604599200-1604606400@biblioteka.ozarow-mazowiecki.pl
SUMMARY:Ożarów - Kodowanie online
DESCRIPTION:
URL:https://biblioteka.ozarow-mazowiecki.pl/wydarzenie/ozarow-kodowanie-5/
LOCATION:Biblioteka Publiczna im. Ireny Zarzyckiej w Ożarowie Mazowieckim\, Szkolna 2\, Ożarów Mazowiecki\, mazowieckie\, 05-850\, Poland
END:VEVENT
BEGIN:VEVENT
DTSTART;TZID=Europe/Warsaw:20201008T180000
DTEND;TZID=Europe/Warsaw:20201008T200000
DTSTAMP:20260425T150020
CREATED:20200917T145045Z
LAST-MODIFIED:20200917T145045Z
UID:3603-1602180000-1602187200@biblioteka.ozarow-mazowiecki.pl
SUMMARY:Ożarów - Kodowanie
DESCRIPTION:
URL:https://biblioteka.ozarow-mazowiecki.pl/wydarzenie/ozarow-kodowanie-2/
LOCATION:Biblioteka Publiczna im. Ireny Zarzyckiej w Ożarowie Mazowieckim\, Szkolna 2\, Ożarów Mazowiecki\, mazowieckie\, 05-850\, Poland
END:VEVENT
BEGIN:VEVENT
DTSTART;TZID=Europe/Warsaw:20201001T180000
DTEND;TZID=Europe/Warsaw:20201001T200000
DTSTAMP:20260425T150020
CREATED:20200917T144823Z
LAST-MODIFIED:20200917T144823Z
UID:3601-1601575200-1601582400@biblioteka.ozarow-mazowiecki.pl
SUMMARY:Ożarów - Kodowanie
DESCRIPTION:
URL:https://biblioteka.ozarow-mazowiecki.pl/wydarzenie/ozarow-kodowanie/
LOCATION:Biblioteka Publiczna im. Ireny Zarzyckiej w Ożarowie Mazowieckim\, Szkolna 2\, Ożarów Mazowiecki\, mazowieckie\, 05-850\, Poland
END:VEVENT
END:VCALENDAR