BEGIN:VCALENDAR
VERSION:2.0
PRODID:-//Biblioteka Publiczna im. Ireny Zarzyckiej w Ożarowie Mazowieckim - ECPv6.15.12.2//NONSGML v1.0//EN
CALSCALE:GREGORIAN
METHOD:PUBLISH
X-ORIGINAL-URL:https://biblioteka.ozarow-mazowiecki.pl
X-WR-CALDESC:Wydarzenia dla Biblioteka Publiczna im. Ireny Zarzyckiej w Ożarowie Mazowieckim
REFRESH-INTERVAL;VALUE=DURATION:PT1H
X-Robots-Tag:noindex
X-PUBLISHED-TTL:PT1H
BEGIN:VTIMEZONE
TZID:Europe/Warsaw
BEGIN:DAYLIGHT
TZOFFSETFROM:+0100
TZOFFSETTO:+0200
TZNAME:CEST
DTSTART:20230326T010000
END:DAYLIGHT
BEGIN:STANDARD
TZOFFSETFROM:+0200
TZOFFSETTO:+0100
TZNAME:CET
DTSTART:20231029T010000
END:STANDARD
BEGIN:DAYLIGHT
TZOFFSETFROM:+0100
TZOFFSETTO:+0200
TZNAME:CEST
DTSTART:20240331T010000
END:DAYLIGHT
BEGIN:STANDARD
TZOFFSETFROM:+0200
TZOFFSETTO:+0100
TZNAME:CET
DTSTART:20241027T010000
END:STANDARD
BEGIN:DAYLIGHT
TZOFFSETFROM:+0100
TZOFFSETTO:+0200
TZNAME:CEST
DTSTART:20250330T010000
END:DAYLIGHT
BEGIN:STANDARD
TZOFFSETFROM:+0200
TZOFFSETTO:+0100
TZNAME:CET
DTSTART:20251026T010000
END:STANDARD
END:VTIMEZONE
BEGIN:VEVENT
DTSTART;TZID=Europe/Warsaw:20240509T120000
DTEND;TZID=Europe/Warsaw:20240509T140000
DTSTAMP:20260426T003905
CREATED:20240426T164732Z
LAST-MODIFIED:20240426T164732Z
UID:24409-1715256000-1715263200@biblioteka.ozarow-mazowiecki.pl
SUMMARY:Ożarów – Lekcja biblioteczna
DESCRIPTION:Zajęcia dla uczniów Szkoły Podstawowej w Umiastowie\, dwie klasy „0”
URL:https://biblioteka.ozarow-mazowiecki.pl/wydarzenie/ozarow-lekcja-biblioteczna-69/
LOCATION:Biblioteka Publiczna im. Ireny Zarzyckiej w Ożarowie Mazowieckim\, Szkolna 2\, Ożarów Mazowiecki\, mazowieckie\, 05-850\, Poland
END:VEVENT
BEGIN:VEVENT
DTSTART;TZID=Europe/Warsaw:20240509T180000
DTEND;TZID=Europe/Warsaw:20240509T200000
DTSTAMP:20260426T003905
CREATED:20240426T164903Z
LAST-MODIFIED:20240426T164933Z
UID:24411-1715277600-1715284800@biblioteka.ozarow-mazowiecki.pl
SUMMARY:TYDZIEŃ BIBLIOTEK / Ożarów – BLISKO Autorów – spotkanie autorskie z Adrianem Bednarkiem
DESCRIPTION:
URL:https://biblioteka.ozarow-mazowiecki.pl/wydarzenie/ozarow-blisko-autorow-spotkanie-autorskie-z-adrianem-bednarkiem/
LOCATION:Biblioteka Publiczna im. Ireny Zarzyckiej w Ożarowie Mazowieckim\, Szkolna 2\, Ożarów Mazowiecki\, mazowieckie\, 05-850\, Poland
END:VEVENT
BEGIN:VEVENT
DTSTART;TZID=Europe/Warsaw:20240510T173000
DTEND;TZID=Europe/Warsaw:20240510T190000
DTSTAMP:20260426T003905
CREATED:20240426T165309Z
LAST-MODIFIED:20240426T171632Z
UID:24414-1715362200-1715367600@biblioteka.ozarow-mazowiecki.pl
SUMMARY:TYDZIEŃ BIBLIOTEK / Ożarów – BLISKO – spotkanie autorskie z Dariuszem Grochalem i Markiem Szukalskim
DESCRIPTION:
URL:https://biblioteka.ozarow-mazowiecki.pl/wydarzenie/tydzien-bibliotek-ozarow-blisko-spotkanie-autorskie-z-dariuszem-grochalem-i-markiem-szukalskim/
LOCATION:Biblioteka Publiczna im. Ireny Zarzyckiej w Ożarowie Mazowieckim\, Szkolna 2\, Ożarów Mazowiecki\, mazowieckie\, 05-850\, Poland
END:VEVENT
BEGIN:VEVENT
DTSTART;TZID=Europe/Warsaw:20240511T110000
DTEND;TZID=Europe/Warsaw:20240511T130000
DTSTAMP:20260426T003905
CREATED:20240429T145551Z
LAST-MODIFIED:20240430T211845Z
UID:24419-1715425200-1715432400@biblioteka.ozarow-mazowiecki.pl
SUMMARY:TYDZIEŃ BIBLIOTEK / Ożarów – Sąsiedzkie Wymianki Książek
DESCRIPTION:
URL:https://biblioteka.ozarow-mazowiecki.pl/wydarzenie/tydzien-bibliotek-ozarow-sasiedzkie-wymianki-ksiazek-2/
LOCATION:Biblioteka Publiczna im. Ireny Zarzyckiej w Ożarowie Mazowieckim\, Szkolna 2\, Ożarów Mazowiecki\, mazowieckie\, 05-850\, Poland
END:VEVENT
BEGIN:VEVENT
DTSTART;TZID=Europe/Warsaw:20240513T100000
DTEND;TZID=Europe/Warsaw:20240513T120000
DTSTAMP:20260426T003905
CREATED:20240429T201550Z
LAST-MODIFIED:20240429T201550Z
UID:24435-1715594400-1715601600@biblioteka.ozarow-mazowiecki.pl
SUMMARY:TYDZIEŃ BIBLIOTEK / Ożarów - Fair play? OK! - warsztaty dla młodzieży
DESCRIPTION:Warsztaty dla uczniów SP w Duchnicach
URL:https://biblioteka.ozarow-mazowiecki.pl/wydarzenie/tydzien-bibliotek-ozarow-fair-play-ok-warsztaty-dla-mlodziezy/
LOCATION:Biblioteka Publiczna im. Ireny Zarzyckiej w Ożarowie Mazowieckim\, Szkolna 2\, Ożarów Mazowiecki\, mazowieckie\, 05-850\, Poland
END:VEVENT
BEGIN:VEVENT
DTSTART;TZID=Europe/Warsaw:20240513T123000
DTEND;TZID=Europe/Warsaw:20240513T140000
DTSTAMP:20260426T003905
CREATED:20240429T201719Z
LAST-MODIFIED:20240429T201719Z
UID:24437-1715603400-1715608800@biblioteka.ozarow-mazowiecki.pl
SUMMARY:Ożarów – Lekcja biblioteczna
DESCRIPTION:Zajęcia dla kl. 2 A SP nr 1
URL:https://biblioteka.ozarow-mazowiecki.pl/wydarzenie/ozarow-lekcja-biblioteczna-70/
LOCATION:Biblioteka Publiczna im. Ireny Zarzyckiej w Ożarowie Mazowieckim\, Szkolna 2\, Ożarów Mazowiecki\, mazowieckie\, 05-850\, Poland
END:VEVENT
BEGIN:VEVENT
DTSTART;TZID=Europe/Warsaw:20240513T180000
DTEND;TZID=Europe/Warsaw:20240513T200000
DTSTAMP:20260426T003905
CREATED:20240429T201848Z
LAST-MODIFIED:20240429T202329Z
UID:24439-1715623200-1715630400@biblioteka.ozarow-mazowiecki.pl
SUMMARY:Ożarów – BLISKO Autorów – spotkanie autorskie z Ałbeną Grabowską
DESCRIPTION:
URL:https://biblioteka.ozarow-mazowiecki.pl/wydarzenie/ozarow-blisko-autorow-spotkanie-autorskie-z-albena-grabowska/
LOCATION:Biblioteka Publiczna im. Ireny Zarzyckiej w Ożarowie Mazowieckim\, Szkolna 2\, Ożarów Mazowiecki\, mazowieckie\, 05-850\, Poland
END:VEVENT
BEGIN:VEVENT
DTSTART;TZID=Europe/Warsaw:20240514T100000
DTEND;TZID=Europe/Warsaw:20240514T120000
DTSTAMP:20260426T003905
CREATED:20240429T202425Z
LAST-MODIFIED:20240429T202425Z
UID:24441-1715680800-1715688000@biblioteka.ozarow-mazowiecki.pl
SUMMARY:TYDZIEŃ BIBLIOTEK / Ożarów – Fair play? OK! – warsztaty dla młodzieży
DESCRIPTION:Warsztaty dla uczniów ZS im. T. Halika
URL:https://biblioteka.ozarow-mazowiecki.pl/wydarzenie/tydzien-bibliotek-ozarow-fair-play-ok-warsztaty-dla-mlodziezy-2/
LOCATION:Biblioteka Publiczna im. Ireny Zarzyckiej w Ożarowie Mazowieckim\, Szkolna 2\, Ożarów Mazowiecki\, mazowieckie\, 05-850\, Poland
END:VEVENT
BEGIN:VEVENT
DTSTART;TZID=Europe/Warsaw:20240514T100000
DTEND;TZID=Europe/Warsaw:20240514T120000
DTSTAMP:20260426T003905
CREATED:20240429T202544Z
LAST-MODIFIED:20240429T202713Z
UID:24443-1715680800-1715688000@biblioteka.ozarow-mazowiecki.pl
SUMMARY:Ożarów – Nowoczesny senior
DESCRIPTION:Zajęcia dla słuchaczy OUTW
URL:https://biblioteka.ozarow-mazowiecki.pl/wydarzenie/ozarow-nowoczesny-senior-9/
LOCATION:Biblioteka Publiczna im. Ireny Zarzyckiej w Ożarowie Mazowieckim\, Szkolna 2\, Ożarów Mazowiecki\, mazowieckie\, 05-850\, Poland
END:VEVENT
BEGIN:VEVENT
DTSTART;TZID=Europe/Warsaw:20240514T180000
DTEND;TZID=Europe/Warsaw:20240514T200000
DTSTAMP:20260426T003905
CREATED:20240429T202910Z
LAST-MODIFIED:20240429T203008Z
UID:24446-1715709600-1715716800@biblioteka.ozarow-mazowiecki.pl
SUMMARY:TYDZIEŃ BIBLIOTEK / Ożarów - "Za Rubieżą" spotkanie autorskie z Miłoszem Szymańskim
DESCRIPTION:
URL:https://biblioteka.ozarow-mazowiecki.pl/wydarzenie/tydzien-bibliotek-ozarow-spotkanie-autorskie-z-miloszem-szymanskim/
LOCATION:Biblioteka Publiczna im. Ireny Zarzyckiej w Ożarowie Mazowieckim\, Szkolna 2\, Ożarów Mazowiecki\, mazowieckie\, 05-850\, Poland
END:VEVENT
BEGIN:VEVENT
DTSTART;TZID=Europe/Warsaw:20240515T103000
DTEND;TZID=Europe/Warsaw:20240515T120000
DTSTAMP:20260426T003905
CREATED:20240429T203211Z
LAST-MODIFIED:20240429T203240Z
UID:24450-1715769000-1715774400@biblioteka.ozarow-mazowiecki.pl
SUMMARY:TYDZIEŃ BIBLIOTEK / Ożarów - Dzień Tańca z KLANZĄ
DESCRIPTION:Wspólny taniec z uczniami SP nr 1
URL:https://biblioteka.ozarow-mazowiecki.pl/wydarzenie/tydzien-bibliotek-ozarow-dzien-tanca-z-klanza/
LOCATION:Szkoła Podstawowa nr 1\, Szkolna 2\, Ożarów Mazowiecki\, mazowieckie\, 05-850
END:VEVENT
BEGIN:VEVENT
DTSTART;TZID=Europe/Warsaw:20240516T180000
DTEND;TZID=Europe/Warsaw:20240516T200000
DTSTAMP:20260426T003905
CREATED:20240429T204002Z
LAST-MODIFIED:20240429T204002Z
UID:24458-1715882400-1715889600@biblioteka.ozarow-mazowiecki.pl
SUMMARY:Ożarów - Dyskusyjny Klub Komiksowy
DESCRIPTION:Wstęp wolny
URL:https://biblioteka.ozarow-mazowiecki.pl/wydarzenie/ozarow-dyskusyjny-klub-komiksowy-3/
LOCATION:Biblioteka Publiczna im. Ireny Zarzyckiej w Ożarowie Mazowieckim\, Szkolna 2\, Ożarów Mazowiecki\, mazowieckie\, 05-850\, Poland
END:VEVENT
BEGIN:VEVENT
DTSTART;TZID=Europe/Warsaw:20240517T115000
DTEND;TZID=Europe/Warsaw:20240517T123000
DTSTAMP:20260426T003905
CREATED:20240429T205031Z
LAST-MODIFIED:20240429T205031Z
UID:24460-1715946600-1715949000@biblioteka.ozarow-mazowiecki.pl
SUMMARY:Ożarów – Dyskusyjny Klub Książki dla młodzieży
DESCRIPTION:Kl. 6A SP nr 1
URL:https://biblioteka.ozarow-mazowiecki.pl/wydarzenie/ozarow-dyskusyjny-klub-ksiazki-dla-mlodziezy-23/
LOCATION:Biblioteka Publiczna im. Ireny Zarzyckiej w Ożarowie Mazowieckim\, Szkolna 2\, Ożarów Mazowiecki\, mazowieckie\, 05-850\, Poland
END:VEVENT
BEGIN:VEVENT
DTSTART;TZID=Europe/Warsaw:20240518T100000
DTEND;TZID=Europe/Warsaw:20240518T120000
DTSTAMP:20260426T003905
CREATED:20240430T214014Z
LAST-MODIFIED:20240430T214056Z
UID:24577-1716026400-1716033600@biblioteka.ozarow-mazowiecki.pl
SUMMARY:Ożarów - Poranek filmowy dla dzieci
DESCRIPTION:Wstęp wolny
URL:https://biblioteka.ozarow-mazowiecki.pl/wydarzenie/ozarow-poranek-filmowy-dla-dzieci-13/
LOCATION:Biblioteka Publiczna im. Ireny Zarzyckiej w Ożarowie Mazowieckim\, Szkolna 2\, Ożarów Mazowiecki\, mazowieckie\, 05-850\, Poland
END:VEVENT
BEGIN:VEVENT
DTSTART;TZID=Europe/Warsaw:20240521T100000
DTEND;TZID=Europe/Warsaw:20240521T120000
DTSTAMP:20260426T003905
CREATED:20240429T205141Z
LAST-MODIFIED:20240429T205141Z
UID:24462-1716285600-1716292800@biblioteka.ozarow-mazowiecki.pl
SUMMARY:Ożarów – Nowoczesny senior
DESCRIPTION:Zajęcia dla słuchaczy OUTW
URL:https://biblioteka.ozarow-mazowiecki.pl/wydarzenie/ozarow-nowoczesny-senior-10/
LOCATION:Biblioteka Publiczna im. Ireny Zarzyckiej w Ożarowie Mazowieckim\, Szkolna 2\, Ożarów Mazowiecki\, mazowieckie\, 05-850\, Poland
END:VEVENT
BEGIN:VEVENT
DTSTART;TZID=Europe/Warsaw:20240521T170000
DTEND;TZID=Europe/Warsaw:20240521T190000
DTSTAMP:20260426T003905
CREATED:20240430T213829Z
LAST-MODIFIED:20240430T213829Z
UID:24575-1716310800-1716318000@biblioteka.ozarow-mazowiecki.pl
SUMMARY:Ożarów – Klub filmowy Iluzjon
DESCRIPTION:Wstęp wolny
URL:https://biblioteka.ozarow-mazowiecki.pl/wydarzenie/ozarow-klub-filmowy-iluzjon-2/
LOCATION:Biblioteka Publiczna im. Ireny Zarzyckiej w Ożarowie Mazowieckim\, Szkolna 2\, Ożarów Mazowiecki\, mazowieckie\, 05-850\, Poland
END:VEVENT
BEGIN:VEVENT
DTSTART;TZID=Europe/Warsaw:20240522T173000
DTEND;TZID=Europe/Warsaw:20240522T190000
DTSTAMP:20260426T003905
CREATED:20240429T205521Z
LAST-MODIFIED:20240430T212017Z
UID:24464-1716399000-1716404400@biblioteka.ozarow-mazowiecki.pl
SUMMARY:Ożarów – Dyskusyjny Klub Książki dla dorosłych
DESCRIPTION:
URL:https://biblioteka.ozarow-mazowiecki.pl/wydarzenie/ozarow-dyskusyjny-klub-ksiazki-dla-doroslych-9/
LOCATION:Biblioteka Publiczna im. Ireny Zarzyckiej w Ożarowie Mazowieckim\, Szkolna 2\, Ożarów Mazowiecki\, mazowieckie\, 05-850\, Poland
END:VEVENT
BEGIN:VEVENT
DTSTART;TZID=Europe/Warsaw:20240524T180000
DTEND;TZID=Europe/Warsaw:20240524T200000
DTSTAMP:20260426T003905
CREATED:20240429T210045Z
LAST-MODIFIED:20240429T223607Z
UID:24466-1716573600-1716580800@biblioteka.ozarow-mazowiecki.pl
SUMMARY:Ożarów – BLISKO Autorów – spotkanie autorskie z Agnieszką Kulbat i Kamilą Szczubełek
DESCRIPTION:Wstęp wolny
URL:https://biblioteka.ozarow-mazowiecki.pl/wydarzenie/ozarow-blisko-autorow-spotkanie-autorskie-z-aleksandra-kulbat-i-kamila-szczubelek/
LOCATION:Biblioteka Publiczna im. Ireny Zarzyckiej w Ożarowie Mazowieckim\, Szkolna 2\, Ożarów Mazowiecki\, mazowieckie\, 05-850\, Poland
END:VEVENT
BEGIN:VEVENT
DTSTART;TZID=Europe/Warsaw:20240525T100000
DTEND;TZID=Europe/Warsaw:20240525T120000
DTSTAMP:20260426T003905
CREATED:20240430T214147Z
LAST-MODIFIED:20240430T214147Z
UID:24579-1716631200-1716638400@biblioteka.ozarow-mazowiecki.pl
SUMMARY:Ożarów - Poranek filmowy dla dzieci
DESCRIPTION:Wstęp wolny
URL:https://biblioteka.ozarow-mazowiecki.pl/wydarzenie/ozarow-poranek-filmowy-dla-dzieci-14/
LOCATION:Biblioteka Publiczna im. Ireny Zarzyckiej w Ożarowie Mazowieckim\, Szkolna 2\, Ożarów Mazowiecki\, mazowieckie\, 05-850\, Poland
END:VEVENT
BEGIN:VEVENT
DTSTART;TZID=Europe/Warsaw:20240527T090000
DTEND;TZID=Europe/Warsaw:20240527T110000
DTSTAMP:20260426T003905
CREATED:20240502T080445Z
LAST-MODIFIED:20240520T203504Z
UID:24583-1716800400-1716807600@biblioteka.ozarow-mazowiecki.pl
SUMMARY:Ożarów – 10. Ożarowski / XXIII Ogólnopolski Tydzień Czytania Dzieciom
DESCRIPTION:2 spotkania dla uczniów SP w Święcicach
URL:https://biblioteka.ozarow-mazowiecki.pl/wydarzenie/ozarow-10-ozarowski-xxiii-ogolnopolski-tydzien-czytania-dzieciom-biblioteka-podworkowa-3/
LOCATION:Filia nr 2 w Święcicach\, Warszawska 53\, Święcice\, mazowieckie\, 05-850
END:VEVENT
BEGIN:VEVENT
DTSTART;TZID=Europe/Warsaw:20240527T170000
DTEND;TZID=Europe/Warsaw:20240527T180000
DTSTAMP:20260426T003905
CREATED:20240429T213307Z
LAST-MODIFIED:20240429T213715Z
UID:24480-1716829200-1716832800@biblioteka.ozarow-mazowiecki.pl
SUMMARY:Ożarów – 10. Ożarowski / XXIII Ogólnopolski Tydzień Czytania Dzieciom - Biblioteka podwórkowa
DESCRIPTION:Spotkanie na placu zabaw przy bibliobudce – ul. Poznańska 288 \nWstęp wolny
URL:https://biblioteka.ozarow-mazowiecki.pl/wydarzenie/ozarow-10-ozarowski-xxiii-ogolnopolski-tydzien-czytania-dzieciom-biblioteka-podworkowa/
LOCATION:Plac zabaw przy bibliobudce\, Poznańska 288\, Ożarów Mazowiecki\, mazowieckie\, 05-850
END:VEVENT
BEGIN:VEVENT
DTSTART;TZID=Europe/Warsaw:20240528T100000
DTEND;TZID=Europe/Warsaw:20240528T140000
DTSTAMP:20260426T003905
CREATED:20240429T210934Z
LAST-MODIFIED:20240520T203406Z
UID:24468-1716890400-1716904800@biblioteka.ozarow-mazowiecki.pl
SUMMARY:Ożarów – 10. Ożarowski / XXIII Ogólnopolski Tydzień Czytania Dzieciom
DESCRIPTION:4 spotkania w SP w Umiastowie
URL:https://biblioteka.ozarow-mazowiecki.pl/wydarzenie/ozarow-10-ozarowski-xxiii-ogolnopolski-tydzien-czytania-dzieciom/
LOCATION:Szkoła Podstawowa w Umiastowie\, Umiastowska 74\, Ożarów Mazowiecki\, mazowieckie\, 05-850\, Poland
END:VEVENT
BEGIN:VEVENT
DTSTART;TZID=Europe/Warsaw:20240529T100000
DTEND;TZID=Europe/Warsaw:20240529T120000
DTSTAMP:20260426T003905
CREATED:20240429T211057Z
LAST-MODIFIED:20240429T211556Z
UID:24471-1716976800-1716984000@biblioteka.ozarow-mazowiecki.pl
SUMMARY:Ożarów – 10. Ożarowski / XXIII Ogólnopolski Tydzień Czytania Dzieciom
DESCRIPTION:Zajęcia dla uczniów Naszej Szkoły
URL:https://biblioteka.ozarow-mazowiecki.pl/wydarzenie/ozarow-10-ozarowski-xxiii-ogolnopolski-tydzien-czytania-dzieciom-2/
LOCATION:Nasza Klinika\, Dmowskiego 39\, Ożarów Mazowiecki\, mazowieckie\, 05-850
END:VEVENT
BEGIN:VEVENT
DTSTART;TZID=Europe/Warsaw:20240601T150000
DTEND;TZID=Europe/Warsaw:20240601T190000
DTSTAMP:20260426T003905
CREATED:20240429T212034Z
LAST-MODIFIED:20240429T212124Z
UID:24474-1717254000-1717268400@biblioteka.ozarow-mazowiecki.pl
SUMMARY:Ożarów – 10. Ożarowski / XXIII Ogólnopolski Tydzień Czytania Dzieciom - Rodzinny Dzień Dziecka
DESCRIPTION:Stoisko Biblioteki na miejskiej imprezie plenerowej. \n\nInauguracja 10. Ożarowskiego / XXIII Ogólnopolskiego Tygodnia Czytania Dzieciom – odczytanie „Lokomotywy” ze sceny\,\nAnimacje przy stoisku\,\nBiblioteka podwórkowa\,\nStrefa relaksu.
URL:https://biblioteka.ozarow-mazowiecki.pl/wydarzenie/ozarow-10-ozarowski-xxiii-ogolnopolski-tydzien-czytania-dzieciom-dzien-dziecka/
LOCATION:Stadion AMBRA\, Mazowiecka 12/16\, Ożarów Mazowiecki\, mazowieckie\, 05-850\, Poland
END:VEVENT
BEGIN:VEVENT
DTSTART;TZID=Europe/Warsaw:20240603T170000
DTEND;TZID=Europe/Warsaw:20240603T180000
DTSTAMP:20260426T003905
CREATED:20240430T130554Z
LAST-MODIFIED:20240430T130554Z
UID:24505-1717434000-1717437600@biblioteka.ozarow-mazowiecki.pl
SUMMARY:Ożarów – 10. Ożarowski / XXIII Ogólnopolski Tydzień Czytania Dzieciom – Biblioteka podwórkowa
DESCRIPTION:Spotkanie na placu zabaw przy bibliobudce – ul. Poznańska 288 \nWstęp wolny
URL:https://biblioteka.ozarow-mazowiecki.pl/wydarzenie/ozarow-10-ozarowski-xxiii-ogolnopolski-tydzien-czytania-dzieciom-biblioteka-podworkowa-2/
LOCATION:Plac zabaw przy bibliobudce\, Poznańska 288\, Ożarów Mazowiecki\, mazowieckie\, 05-850
END:VEVENT
BEGIN:VEVENT
DTSTART;TZID=Europe/Warsaw:20240604T090000
DTEND;TZID=Europe/Warsaw:20240604T133000
DTSTAMP:20260426T003905
CREATED:20240429T212716Z
LAST-MODIFIED:20240502T080255Z
UID:24478-1717491600-1717507800@biblioteka.ozarow-mazowiecki.pl
SUMMARY:Ożarów – 10. Ożarowski / XXIII Ogólnopolski Tydzień Czytania Dzieciom
DESCRIPTION:Zajęcia w Przedszkolu nr 2 „Magiczny Ogród”
URL:https://biblioteka.ozarow-mazowiecki.pl/wydarzenie/ozarow-10-ozarowski-xxiii-ogolnopolski-tydzien-czytania-dzieciom-3/
LOCATION:Przedszkole Publiczne nr 2\, Poznańska 135\, Ożarów Mazowiecki\, warszawski zachodni\, 05-850
END:VEVENT
BEGIN:VEVENT
DTSTART;TZID=Europe/Warsaw:20240605T091500
DTEND;TZID=Europe/Warsaw:20240605T101500
DTSTAMP:20260426T003905
CREATED:20240429T213834Z
LAST-MODIFIED:20240520T203636Z
UID:24482-1717578900-1717582500@biblioteka.ozarow-mazowiecki.pl
SUMMARY:Ożarów – 10. Ożarowski / XXIII Ogólnopolski Tydzień Czytania Dzieciom
DESCRIPTION:Zajęcia dla przedszkolaków z Przedszkola Publicznego w Józefowie (gr. III i IV)
URL:https://biblioteka.ozarow-mazowiecki.pl/wydarzenie/ozarow-10-ozarowski-xxiii-ogolnopolski-tydzien-czytania-dzieciom-4/
LOCATION:Filia nr 1 w Józefowie\, Fabryczna 15\, Płochocin\, mazowieckie\, 05-860
END:VEVENT
BEGIN:VEVENT
DTSTART;TZID=Europe/Warsaw:20240605T103000
DTEND;TZID=Europe/Warsaw:20240605T113000
DTSTAMP:20260426T003905
CREATED:20240520T203813Z
LAST-MODIFIED:20240520T203813Z
UID:25025-1717583400-1717587000@biblioteka.ozarow-mazowiecki.pl
SUMMARY:Ożarów – 10. Ożarowski / XXIII Ogólnopolski Tydzień Czytania Dzieciom
DESCRIPTION:Zajęcia dla kl. 1d SP w Płochocinie
URL:https://biblioteka.ozarow-mazowiecki.pl/wydarzenie/ozarow-10-ozarowski-xxiii-ogolnopolski-tydzien-czytania-dzieciom-6/
LOCATION:Filia nr 1 w Józefowie\, Fabryczna 15\, Płochocin\, mazowieckie\, 05-860
END:VEVENT
BEGIN:VEVENT
DTSTART;TZID=Europe/Warsaw:20240606T090000
DTEND;TZID=Europe/Warsaw:20240606T120000
DTSTAMP:20260426T003905
CREATED:20240429T222210Z
LAST-MODIFIED:20240429T222210Z
UID:24484-1717664400-1717675200@biblioteka.ozarow-mazowiecki.pl
SUMMARY:Ożarów – 10. Ożarowski / XXIII Ogólnopolski Tydzień Czytania Dzieciom
DESCRIPTION:Zajęcia w SP nr 2\, 4 klasy „0”
URL:https://biblioteka.ozarow-mazowiecki.pl/wydarzenie/ozarow-10-ozarowski-xxiii-ogolnopolski-tydzien-czytania-dzieciom-5/
LOCATION:Szkoła Postawowa nr 2 im. Obrońców Warszawy\, Lipowa 11\, Ożarów Mazowiecki\, mazowieckie\, 05-850
END:VEVENT
BEGIN:VEVENT
DTSTART;TZID=Europe/Warsaw:20240607T080000
DTEND;TZID=Europe/Warsaw:20240607T190000
DTSTAMP:20260426T003905
CREATED:20240520T204418Z
LAST-MODIFIED:20240520T204418Z
UID:25030-1717747200-1717786800@biblioteka.ozarow-mazowiecki.pl
SUMMARY:Ożarów – 10. Ożarowski / XXIII Ogólnopolski Tydzień Czytania Dzieciom – Ogólnopolskie Wybory Książek Młodzieżowych
DESCRIPTION:Szczegóły wkrótce
URL:https://biblioteka.ozarow-mazowiecki.pl/wydarzenie/ozarow-10-ozarowski-xxiii-ogolnopolski-tydzien-czytania-dzieciom-ogolnopolskie-wybory-ksiazek-mlodziezowych/
LOCATION:mazowieckie
END:VEVENT
END:VCALENDAR